BEGIN:VCALENDAR
VERSION:2.0
PRODID:-//RIES - Rete Italiana Economia Solidale - ECPv6.15.20//NONSGML v1.0//EN
CALSCALE:GREGORIAN
METHOD:PUBLISH
X-WR-CALNAME:RIES - Rete Italiana Economia Solidale
X-ORIGINAL-URL:https://rete-ries.it
X-WR-CALDESC:Eventi per RIES - Rete Italiana Economia Solidale
REFRESH-INTERVAL;VALUE=DURATION:PT1H
X-Robots-Tag:noindex
X-PUBLISHED-TTL:PT1H
BEGIN:VTIMEZONE
TZID:Europe/Rome
BEGIN:DAYLIGHT
TZOFFSETFROM:+0100
TZOFFSETTO:+0200
TZNAME:CEST
DTSTART:20220327T010000
END:DAYLIGHT
BEGIN:STANDARD
TZOFFSETFROM:+0200
TZOFFSETTO:+0100
TZNAME:CET
DTSTART:20221030T010000
END:STANDARD
BEGIN:DAYLIGHT
TZOFFSETFROM:+0100
TZOFFSETTO:+0200
TZNAME:CEST
DTSTART:20230326T010000
END:DAYLIGHT
BEGIN:STANDARD
TZOFFSETFROM:+0200
TZOFFSETTO:+0100
TZNAME:CET
DTSTART:20231029T010000
END:STANDARD
BEGIN:DAYLIGHT
TZOFFSETFROM:+0100
TZOFFSETTO:+0200
TZNAME:CEST
DTSTART:20240331T010000
END:DAYLIGHT
BEGIN:STANDARD
TZOFFSETFROM:+0200
TZOFFSETTO:+0100
TZNAME:CET
DTSTART:20241027T010000
END:STANDARD
END:VTIMEZONE
BEGIN:VEVENT
DTSTART;VALUE=DATE:20230507
DTEND;VALUE=DATE:20230508
DTSTAMP:20260423T083302
CREATED:20230414T183642Z
LAST-MODIFIED:20230507T151058Z
UID:10000175-1683417600-1683503999@rete-ries.it
SUMMARY:Forum Territoriale dell'Economia Solidale - Veneto NordEst
DESCRIPTION:Il Distretto di Economia Solidale OLTRECONFIN accoglie uno dei FORUM TERRITORIALI DELL’ECONOMIA SOLIDALE\, co-promosso da RIES\, che si svolgerà domenica 7 maggio a Preganziol (TV). \nIl DES OLTRECONFIN è una realtà giovane ma che da subito ha voluto essere tra i soci fondatori di RIES e ha l’onore da alcuni anni di esserne nel Consiglio Direttivo: crediamo che l’Economia solidale cammini nei nostri territori\, nelle nostre comunità e che sia il nostro futuro.  \nInvitiamo tutte le realtà del Veneto rappresentate in RIES (e che fanno capo a filoni della finanza etica\, del movimentismo sociale\, del commercio equo\, del mutualismo\, ecc.) a confluire a Preganziol – una realtà territoriale tra Venezia e Treviso che con la sua amministrazione comunale ha dato molto spazio e molta interlocuzione alle istanze del DES OltreConfin (non da ultimo la sottoscrizione di un impegno che porti alla stesura di un Piano del Cibo per la città sulla falsariga delle indicazioni del Patto di Milano).  \nSarà una giornata di festa e di lavoro per rinsaldare progetti e collaborazioni e per avere insieme NUOVE VISIONI! Inviteremo anche realtà amiche e non aderenti a RIES. \nIntanto tenete libera la data.
URL:https://rete-ries.it/evento/forum-territoriale-delleconomia-solidale-veneto-nordest/
LOCATION:Preganziol (TV)
CATEGORIES:Events
ATTACH;FMTTYPE=image/jpeg:https://rete-ries.it/wp-content/uploads/2023/04/FT_NE_070523.jpeg
END:VEVENT
BEGIN:VEVENT
DTSTART;TZID=Europe/Rome:20230507T130000
DTEND;TZID=Europe/Rome:20230507T180000
DTSTAMP:20260423T083302
CREATED:20230503T170821Z
LAST-MODIFIED:20230503T171144Z
UID:10000177-1683464400-1683482400@rete-ries.it
SUMMARY:Domenica dell'ecovillaggio diffuso
DESCRIPTION:Presso la BioFattoria Didattica RIO SELVA la comunità si riunisce in convivialità!\nL’evento segue il Forum Territoriale Ries dell’area Nord Est. \nProgramma:\n1) ore 13 accoglienza + pranzo buffet SOVRANA – 10 euro > sconto famiglie!\n3) ore 14 cerchio: RESTITUZIONE FORUM ECONOMIA SOLIDALE\n4) ore 15 approfondimento: SISTEMI DI CERTIFICAZIONE COMUNITARIA\n5) ore 16 atività in campo sull’agroecologia\n \n> per partecipare inviare sms whatsapp/telegram a 3928497549
URL:https://rete-ries.it/evento/domenica-dellecovillaggio-diffuso/
LOCATION:Rio Selva Biofattoria didattica\, via Rio Selva\, 13\, Preganziol\, TV
ATTACH;FMTTYPE=image/jpeg:https://rete-ries.it/wp-content/uploads/2023/05/Rio-Selva_convivialita.jpg
END:VEVENT
BEGIN:VEVENT
DTSTART;TZID=Europe/Rome:20230512T160000
DTEND;TZID=Europe/Rome:20230512T190000
DTSTAMP:20260423T083302
CREATED:20230504T154506Z
LAST-MODIFIED:20230506T131720Z
UID:10000179-1683907200-1683918000@rete-ries.it
SUMMARY:Mondeggi va in città
DESCRIPTION:Incontro di autoformazione \n• Laboratorio sull’immaginario\n• Potere e paura: governare l’incertezza\n• Cambiamenti e sostenibilità\n• Governance e assemblea \nL’esempio de I Nidiaci\, spazio comune rivendicato dal suo quartiere \nInterventi e facilitazione di: \nSoana Tortora (Solidarius Italia) e Dalma Domeneghini (Associazione Decrescita) \nCol supporto di Europe Direct – Comune di Firenze \nPartecipazione libera.\nPer aiutare l’organizzazione\, chi intende partecipare è pregato di inviare un messaggio a: mondeggivaincitta@protonmail.com \nA seguire:\nSPAZIOFESTA 999\nFesta dei maker e nono compleanno di Lofoio\nvia del Campuccio 23r e 25r\, Firenze\nIngresso libero
URL:https://rete-ries.it/evento/mondeggi-va-in-citta/
LOCATION:Sala mazzei – Nidiaci\, via dell'Ardiglione\, 30\, Firenze\, Italy
ATTACH;FMTTYPE=image/jpeg:https://rete-ries.it/wp-content/uploads/2023/05/Mondeggi.jpg
END:VEVENT
BEGIN:VEVENT
DTSTART;TZID=Europe/Rome:20230512T203000
DTEND;TZID=Europe/Rome:20230512T223000
DTSTAMP:20260423T083302
CREATED:20230504T151256Z
LAST-MODIFIED:20231005T103529Z
UID:10000178-1683923400-1683930600@rete-ries.it
SUMMARY:Riprendiamoci il comune... a Bergamo
DESCRIPTION:Incontro di approfondimento della campagna con raccolta firme per la proposta di due leggi di inziativa popolare. \nIntervengono Marco Noris e Corrado Conti\nIntroduce la serata Simonetta Rinaldi \nMaggiori informazioni sulla campagna sul sito Riprendiamociilcomune
URL:https://rete-ries.it/evento/riprendiamoci-il-comune-a-bergamo/
LOCATION:Ex convento La Ripa\, via La Ripa\, Albino\, Bergamo\, 24021\, Italy
CATEGORIES:Events
ATTACH;FMTTYPE=image/jpeg:https://rete-ries.it/wp-content/uploads/2023/05/Riprendiamoci-il-comune.jpeg
END:VEVENT
BEGIN:VEVENT
DTSTART;VALUE=DATE:20230520
DTEND;VALUE=DATE:20230523
DTSTAMP:20260423T083302
CREATED:20230506T133955Z
LAST-MODIFIED:20230506T134103Z
UID:10000181-1684540800-1684799999@rete-ries.it
SUMMARY:72 ore di Biodiversità
DESCRIPTION:Tre giorni dedicati alla Biodiversità – dal campo alla tavola.  2a edizione dell’evento organizzato dalla Rete dei Semi Rurali\, in collaborazione con varie altre realtà\, tra cui Rete Humus. \nIncontri\, laboratori\, mercato\, concerti\, pasti sociali.  Qui il programma sul sito\, dove ci si può registrare per partecipare ai vari eventi e trovare tutte le informazioni. \nDomenica 21 maggio\, al suo interno\, si svolgerà il Forum territoriale per l’Economia Solidale in Toscana (Altreconomie al Centro). \n 
URL:https://rete-ries.it/evento/72-ore-di-biodiversita/
LOCATION:Castello dell’Acciaiuolo\, Via Pantin\, 63\, Scandicci\, Firenze\, Italy
CATEGORIES:Events
ATTACH;FMTTYPE=image/png:https://rete-ries.it/wp-content/uploads/2023/05/72orebiodiversita.png
ORGANIZER;CN="Rete Semi Rurali":MAILTO:biblioteca@semirurali.net
END:VEVENT
BEGIN:VEVENT
DTSTART;VALUE=DATE:20230521
DTEND;VALUE=DATE:20230522
DTSTAMP:20260423T083302
CREATED:20230414T184651Z
LAST-MODIFIED:20230516T200820Z
UID:10000176-1684627200-1684713599@rete-ries.it
SUMMARY:Altreconomie al Centro: quali cantieri comuni?
DESCRIPTION:Forum territoriale dell’Economia Solidale – Toscana \nChiamata alla raccolta di tutte le realtà che mettono in pratica un’altra economia – trasformativa\, solidale e resistente – in Toscana (e dintorni)! Sarà una giornata di lavoro e di convivialità per rinsaldare progetti e collaborazioni e coltivare nuove relazioni. \nNell’ambito della rassegna 72ore di Biodiversità\, organizzata dalla Rete Semi Rurali si svolgerà l’incontro FORUM TERRITORIALE DELL’ECONOMIA SOLIDALE\, promosso da RIES. \nDalle politiche locali per il cibo a tutte le forme di co-produzione e distribuzione collettiva (GAS\, mercati contadini\, empori solidali\, botteghe del commercio equo\, piccola distribuzione organizzata\, CSA…) alle comunità energetiche rinnovabili solidali che si stanno formando\, dal commercio equo alle forme di mutualismo e finanza solidale sul territorio e al turismo responsabile\, fino alle fattorie e fabbriche autogestite e integrate nel territorio: quali cantieri comuni e sinergie possibili? \nPer il programma\, vedi qui. \nInfo e iscrizioni (libere): info@rete-ries.it
URL:https://rete-ries.it/evento/altreconomie-al-centro-quali-cantieri-comuni/
LOCATION:Castello dell’Acciaiuolo\, Via Pantin\, 63\, Scandicci\, Firenze\, Italy
CATEGORIES:Events
ATTACH;FMTTYPE=image/png:https://rete-ries.it/wp-content/uploads/2023/04/FT_Firenze_210523.png
ORGANIZER;CN="RIES":MAILTO:info@rete-ries.it
END:VEVENT
BEGIN:VEVENT
DTSTART;TZID=Europe/Rome:20230525T173000
DTEND;TZID=Europe/Rome:20230525T203000
DTSTAMP:20260423T083302
CREATED:20230525T082725Z
LAST-MODIFIED:20230525T082725Z
UID:10000183-1685035800-1685046600@rete-ries.it
SUMMARY:L’economia del bene comune e il bilancio del bene comune delle imprese
DESCRIPTION:Scuola di Attivazione Politica – Facciamo comunità trasformative Macro Nord – 4° incontro\n“Il nostro attuale sistema economico ‘sta funzionando al contrario’. Il denaro è diventato un fine in se stesso piuttosto che un mezzo per ciò che conta davvero: una buona vita per tutti” Christian Felber\, co-fondatore del EBC. L’Economia del Bene Comune (EBC) è un movimento internazionale che propone un modello socio-economico etico in cui l’economia mette al centro il benessere delle persone e del pianeta\, basato su 5 valori fondamentali orientati al bene comune: Dignità umana – Solidarietà Giustizia sociale – Eco-sostenibilità – Trasparenza e condivisione democratica. Opera sia sul piano economico\, utilizzando lo strumento del Bilancio del Bene Comune; sul piano sociale\, attraverso un’educazione a riflettere su e a trasformare il proprio stile di vita; sul piano politico\, come motore che stimola anche enti pubblici e istituzioni al cambiamento. \nIntevengono: \nIntroduce e Coordina Lidia Di Vece – Presidente Federazione per l’Economia del Bene Comune \nPaolo Galli AD di Edizioni Green Planner srl benefit \nAdriano Mione presidente Società Mutua Piemonte Società di Mutuo Soccorso \n  \nPer partecipare\, iscriversi in anticipo attraverso questo link
URL:https://rete-ries.it/evento/leconomia-del-bene-comune-e-il-bilancio-del-bene-comune-delle-imprese/
LOCATION:Online
CATEGORIES:Events
ATTACH;FMTTYPE=image/jpeg:https://rete-ries.it/wp-content/uploads/2023/02/SCUOLA-DI-ATTIVAZIONE-POLITICA-2023-ECONOMIE-TRASFROATIVE-Nord-e-Centro-l3.jpg
END:VEVENT
BEGIN:VEVENT
DTSTART;TZID=Europe/Rome:20230526T093000
DTEND;TZID=Europe/Rome:20230526T173000
DTSTAMP:20260423T083302
CREATED:20230530T095422Z
LAST-MODIFIED:20230530T095422Z
UID:10000184-1685093400-1685122200@rete-ries.it
SUMMARY:Clima Ambiente Energia e Salute
DESCRIPTION:Il ciclo di seminari\, promossi dal Forum dell’Economia Solidale\, che ci hanno accompagnato in questo periodo giunge alla sua conclusione con questo evento. \nCiò non significa che questa iniziativa sia meno importante delle altre\, anzi è la degna conclusione di un ciclo virtuoso di seminari su tematiche attuali ed estremamente importanti e con il convegno del pomeriggio apre i lavori della linee progettuali del GLT Agricoltura\, Sovranità Alimentare e Garanzia partecipata. \nIn quest’occasione\, articolata in un seminario e un convegno\, si parlerà della storia dei processi che hanno agito sui territori\, sul clima\, sulla salute e sulle risorse declinati anche nei loro effetti sul mondo dell’agroindustria. \nIn secondo luogo si analizzeranno le possibili soluzioni a queste crisi\, focalizzandosi soprattutto sulle risposte virtuose\, fornite dai territori\, in termini di costituzione di reti sociali tra soggetti diversi e di proposte per una “gestione comunitaria” dei beni comuni di cui dobbiamo avere la massima cura e rispetto: terra\, acqua e aria. \nNon fatevi sfuggire quest’occasione ed iscrivetevi qui!
URL:https://rete-ries.it/evento/clima-ambiente-energia-e-salute/
LOCATION:Fondazione Lercaro\, via Riva Reno 57\, Bologna\, Italy
CATEGORIES:Events
ATTACH;FMTTYPE=image/jpeg:https://rete-ries.it/wp-content/uploads/2023/05/26_maggio_locandinaepost-02-min_page-0001.jpg
END:VEVENT
BEGIN:VEVENT
DTSTART;VALUE=DATE:20230527
DTEND;VALUE=DATE:20230529
DTSTAMP:20260423T083302
CREATED:20230504T220807Z
LAST-MODIFIED:20231005T103546Z
UID:10000180-1685145600-1685318399@rete-ries.it
SUMMARY:Assemblea soci Ries 2023
DESCRIPTION:L’assemblea generale 2023 di RIES si svolgerà a Roma\, grazie alla calorosa accoglienza della RESS Roma\, i giorni 27 e 28 maggio 2023. \nPer registrarsi bisogna compilare il  modulo sul sito. \nCon il 2023\, RIES compie i suoi primi 3 anni e possiamo cominciare a fare le nostre prime valutazioni sullo sviluppo della rete nazionale. Inoltre\, quest’anno coincide anche con il rinnovo degli organi statutari dell’associazione (consiglio direttivo e collegio dei garanti). Verrà a breve costituito un comitato per l’assemblea che avrà il compito\, tra gli altri\, di assicurare che il percorso delle elezioni si svolga nel migliore dei modi. \nRicordiamo che per votare in Assemblea\, i soci devono essere in pari con la quota associativa del 2023\, pari a 100\,00 euro. \nNella  pagina dedicata all’assemblea potete trovare via via informazioni e documentazione aggiornate. \nPer informazioni o chiarimenti: info@rete-ries.it
URL:https://rete-ries.it/evento/assemblea-soci-ries-2023/
LOCATION:Roma Scout Center\, Largo dello Scautismo 1\, Roma\, Italy
CATEGORIES:Events
ATTACH;FMTTYPE=image/png:https://rete-ries.it/wp-content/uploads/2023/05/ASSEMBLEA-RIES-2023_.png
ORGANIZER;CN="RIES":MAILTO:info@rete-ries.it
END:VEVENT
END:VCALENDAR