BEGIN:VCALENDAR
VERSION:2.0
PRODID:-//RIES - Rete Italiana Economia Solidale - ECPv6.15.20//NONSGML v1.0//EN
CALSCALE:GREGORIAN
METHOD:PUBLISH
X-WR-CALNAME:RIES - Rete Italiana Economia Solidale
X-ORIGINAL-URL:https://rete-ries.it
X-WR-CALDESC:Eventi per RIES - Rete Italiana Economia Solidale
REFRESH-INTERVAL;VALUE=DURATION:PT1H
X-Robots-Tag:noindex
X-PUBLISHED-TTL:PT1H
BEGIN:VTIMEZONE
TZID:Europe/Rome
BEGIN:DAYLIGHT
TZOFFSETFROM:+0100
TZOFFSETTO:+0200
TZNAME:CEST
DTSTART:20230326T010000
END:DAYLIGHT
BEGIN:STANDARD
TZOFFSETFROM:+0200
TZOFFSETTO:+0100
TZNAME:CET
DTSTART:20231029T010000
END:STANDARD
BEGIN:DAYLIGHT
TZOFFSETFROM:+0100
TZOFFSETTO:+0200
TZNAME:CEST
DTSTART:20240331T010000
END:DAYLIGHT
BEGIN:STANDARD
TZOFFSETFROM:+0200
TZOFFSETTO:+0100
TZNAME:CET
DTSTART:20241027T010000
END:STANDARD
BEGIN:DAYLIGHT
TZOFFSETFROM:+0100
TZOFFSETTO:+0200
TZNAME:CEST
DTSTART:20250330T010000
END:DAYLIGHT
BEGIN:STANDARD
TZOFFSETFROM:+0200
TZOFFSETTO:+0100
TZNAME:CET
DTSTART:20251026T010000
END:STANDARD
END:VTIMEZONE
BEGIN:VEVENT
DTSTART;TZID=Europe/Rome:20240119T080000
DTEND;TZID=Europe/Rome:20240119T170000
DTSTAMP:20260423T083221
CREATED:20240119T160448Z
LAST-MODIFIED:20240119T161251Z
UID:10000213-1705651200-1705683600@rete-ries.it
SUMMARY:Laboratori aperti di Mag2
DESCRIPTION:Mag2 propone un percorso di laboratori aperti a soci e non soci dal titolo “Sostenibilità condivisa per economie di comunità” \nPartecipare a uno o più incontri è un modo per acquisire competenze utili a livello personale e da utilizzare nelle proprie reti\, ma anche per esplorare una rete di relazioni nuove. Per MAG2 questa esperienza è l’occasione per rivitalizzare la rete attuale dei soci ampliandola anche verso le nuove generazioni\, per costruire percorsi nuovi di circolazione della ricchezza\, non solo di denaro! \nSi tratta di laboratori a numero chiuso (20 partecipanti massimo) per questo è consigliabile iscriversi il prima possibile. \nCALENDARIO\, TEMI E RELATORI\n1. Mercoledì 28 Febbraio orario 18-21- con pausa intermedia\nIl clima cambia…tutto sta cambiando!\n\nDiamoci una cassetta degli attrezzi per affrontare la crisi climatica \nHimby -Hot In My Backyard APS ( www.himby.org) e Gloria Gelmi (autrice del libro il Clima Cambio…anch’io!) \n— \n2. Mercoledì 13 Marzo -orario 18-21 con pausa intermedia\nQuanto denaro ci serve per vivere bene?\nLe potenzialità del bilancio familiare oltre il Dare e l’Avere: uscire dal senso di impotenza dei soldi che non bastano mai per sperimentare una visione del denaro che muove le relazioni intorno a noi. \nMAG2 – Monica Cellini e Chiara Dallavalle \n— \n3. Sabato 13 Aprile- orario 10-13 con pausa intermedia\nEconomia e finanza a portata di mano\nCome si legge una busta paga o una bolletta? Quali sono gli strumenti di finanza etica disponibili oggi? Orientarsi tra le svariate offerte di conti correnti\, bancomat e carta di credito. \nMAG2 – Sebastiano Aleo\, Gianni Fasciolo e Michelle Tchokona \n— \n4. Mercoledì 25 Settembre – orario 18-21 con pausa intermedia\nEconomie di comunità\nA partire dalla storia del mutualismo\, esploriamo le pratiche di scambio e reciprocità dell’Oggi: dalle App alle Casse Comuni fino alla sperimentazione di sostenibilità condivisa nelle Mag. \nMAG2 – Barbara Aiolfi e Davide Biolghini \n— \n5. Sabato 26 Ottobre-orario 9\,30-13-con pausa intermedia\nFacilitare la condivisione\nCultura e strumenti essenziali di facilitazione per la vita dei gruppi e delle organizzazioni collettive per prendere decisioni condivise e affrontare i conflitti. \nElena Hogan e Marta Scalvi (Facilitatrici socie Mag6\, in formazione a FacilitArte) \n— \nClicca qui per i dettagli relativi ai singoli incontri e per iscriverti \n  \n     
URL:https://rete-ries.it/evento/laboratori-aperti-di-mag2/2024-01-19/
LOCATION:Mag2\, via Angera 3\, Milano\, 20125\, Italy
CATEGORIES:Events
ATTACH;FMTTYPE=image/jpeg:https://rete-ries.it/wp-content/uploads/2024/01/Laboratori-Mag2.jpg
END:VEVENT
BEGIN:VEVENT
DTSTART;TZID=Europe/Rome:20240119T080000
DTEND;TZID=Europe/Rome:20240119T170000
DTSTAMP:20260423T083221
CREATED:20240119T180137Z
LAST-MODIFIED:20240124T111905Z
UID:10000220-1705651200-1705683600@rete-ries.it
SUMMARY:Effetto GAS: gli incontri verso Solidalia
DESCRIPTION:La seconda fase di “Effetto GAS\, liberiamo il sogno” prevede una serie di incontri online che porteranno alla festa di Solidalia a Vigheffio\, alla fine di maggio. \nGli incontri verteranno ad approfondire il tema emerso nella prima fase del percorso Effetto GAS\, che si può riassumente così:\n“Quale solidarietà in una società al collasso. Come generare processi solidali” \nEcco il programma in via di definizione: \n21 febbraio – Le aggregazioni possibili\, esperienze di “altre” solidarietà possibili \n20 marzo – Esperienze di processi avviati col contributo e la partecipazione di amministrazioni pubbliche\, le\nalleanze \n17 aprile – Tema da definire \nPer maggiori informazioni vai al sito economiasolidale.net \nPer approfondire l’argomento: \nEffetto GAS \n \n  \nContinua il percorso di riflessione sui GAS
URL:https://rete-ries.it/evento/effetto-gas-gli-incontri-verso-solidalia/2024-01-19/
LOCATION:on line
CATEGORIES:Events
ATTACH;FMTTYPE=image/jpeg:https://rete-ries.it/wp-content/uploads/2023/11/EffettoGas_800.jpg
END:VEVENT
BEGIN:VEVENT
DTSTART;TZID=Europe/Rome:20240123T173500
DTEND;TZID=Europe/Rome:20240123T173500
DTSTAMP:20260423T083221
CREATED:20240123T173502Z
LAST-MODIFIED:20240123T173715Z
UID:10000228-1706031300-1706031300@rete-ries.it
SUMMARY:cont-ACT: Talk e Tavola Rotonda
DESCRIPTION:Due eventi aperti al pubblico per parlare di sostenibilità\, all’interno di cont-ACT\, Commercio Equo e Sostenibile in azione. \nGli appuntamenti aperti al pubblico\, con prenotazione obbligatoria si terranno presso lo Spazio Eventi della fiera: \n\nDomenica 28 gennaio alle ore 17.30 si terrà il talk “Nuove narrazioni per il Fair Trade e per l’Economia Sociale e Solidale” in cui interverranno Alice Pomiato (Aliceful)\, creator digitale di contenuti incentrati sulla sostenibilità\, Nogaye Ndiaye (Leregoledeldirittoperfetto)\, divulgatrice antirazzista e transfemminista e Deborah Lucchetti\, portavoce della campagna Abiti Puliti\, moderate da Imma Baccelliere\, giornalista di Radio Capital.\n\n\nMartedì 30 gennaio dalle ore 10.00\, si svolgerà\, invece\, la tavola rotonda “Filiere sostenibili e due diligence di impresa: buone pratiche e prospettive”. Il dibattito\, moderato da Matteo Macor\, giornalista de La Repubblica\, vedrà un confronto fra Martina Rogato\, consulente di sostenibilità e portavoce campagna Impresa 2030\, Luca Raffaele\, direttore Next – Nuova Economia X Tutti\, Elena Viganò\, docente di economia e estimo rurale presso l’Università degli Studi di Urbino Carlo Bo\, Pietro Fragasso\, presidente della Cooperativa Sociale Pietra di Scarto. Al termine\, previsto per le ore 12\, si terrà un brindisi di chiusura dell’intera manifestazione.\n\nClicca qui per maggiori informazioni
URL:https://rete-ries.it/evento/cont-act-talk-e-alla-tavola-rotonda/2024-01-23/
LOCATION:I frigoriferi milanesi\, Via G.B. Piranesi\, 10\, Milano\, Italy
CATEGORIES:Events
ATTACH;FMTTYPE=image/png:https://rete-ries.it/wp-content/uploads/2024/01/cont-ACT-EquoGarantito-1.png
END:VEVENT
BEGIN:VEVENT
DTSTART;TZID=Europe/Rome:20240124T180000
DTEND;TZID=Europe/Rome:20240124T200000
DTSTAMP:20260423T083221
CREATED:20240119T174705Z
LAST-MODIFIED:20240120T104943Z
UID:10000219-1706119200-1706126400@rete-ries.it
SUMMARY:Effetto GAS 2a fase: prossimo appuntamento
DESCRIPTION:Nuovo incontro tra i rappresentanti di GAS e dell’Economia Solidale\, che apre la seconda fase del percorso “EFFETTO GAS\, LIBERIAMO IL SOGNO”. \nQuesto appuntamento definirà anche il calendario dei futuri incontri che porteranno fino a Solidalia\, la festa nazionale dei GAS prevista a maggio. \nBozza odg dell’incontro “Effetto GAS 2° FASE” – Tema: Gestione del cibo \n\nh 18: introduzione e finalità della 2° fase\n18\,15: Intervento a nome dei Promotori\n18\,30 : 1° contributo – a seguire domande e commenti\n19\,00 : 2° contributo – a seguire domande e commenti\n19\,30: condivisione\n\n Vai al sito economiasolidale per maggiori informazioni \nPer approfondire l’argomento
URL:https://rete-ries.it/evento/effetto-gas-2a-fase-prossimo-appuntamento/
LOCATION:on line
CATEGORIES:Events
ATTACH;FMTTYPE=image/jpeg:https://rete-ries.it/wp-content/uploads/2023/11/EffettoGas_800.jpg
END:VEVENT
BEGIN:VEVENT
DTSTART;VALUE=DATE:20240125
DTEND;VALUE=DATE:20240128
DTSTAMP:20260423T083221
CREATED:20240118T150139Z
LAST-MODIFIED:20240118T150139Z
UID:10000211-1706140800-1706399999@rete-ries.it
SUMMARY:VII Incontro Nazionale - Rete Italiana Politiche Locali del Cibo
DESCRIPTION:Invitiamo a partecipare al prossimo Incontro Nazionale della Rete Italiana Politiche Locali del Cibo il cui programma è scaricabile cliccando qui. \nPer iscrizioni cliccare qui \nPer modificare le opzioni o annullare la registrazione\, inviare una mail a rete.politichelocalicibo@gmail.com \nPer informazioni logistiche\, contattare Francesca Volpe: volpe@iamb.it \n  \n  \n 
URL:https://rete-ries.it/evento/vii-incontro-nazionale-rete-italiana-politiche-locali-del-cibo/
LOCATION:Bari\, Bari\, Italy
CATEGORIES:Events
ATTACH;FMTTYPE=image/png:https://rete-ries.it/wp-content/uploads/2024/01/Logo-rplc.png
END:VEVENT
BEGIN:VEVENT
DTSTART;TZID=Europe/Rome:20240126T140000
DTEND;TZID=Europe/Rome:20240126T180000
DTSTAMP:20260423T083221
CREATED:20240119T003506Z
LAST-MODIFIED:20240123T170953Z
UID:10000212-1706277600-1706292000@rete-ries.it
SUMMARY:Incontro RIES - coord. MAGico
DESCRIPTION:Continua il percorso di conoscenza reciproca tra le MAG – cooperative di Mutua Auto Gestione – e i soci della RIES\, per trovare ambiti di collaborazione e scambio di esperienze nei territori. \nIl link per collegarsi è: https://meet.ripess.org/rie-u39-9mv\n(la piattaforma è BBB-BigBluButton – basta un browser e acconsentire all’uso del microfono al momento di accedere all’incontro online)\nL’incontro sarà facilitato da Maria Teresa Pecchini.\nPer confermare la vostra presenza e se volete inviare commenti o proposte prima dell’incontro\, potete farlo scrivendo a carpi@cnms.it\n——-\nRiportiamo l’ultima parte del resoconto dell’ultimo incontro\, per conoscenza di chi non aveva potuto partecipare:\nSi concorda di essere interessati al sostegno reciproco e concreto tra finanza solidale e mutualistica ed economia solidale e di lavorare a un piano comune. Come possiamo fare?\n1) Anzitutto le MAG possono considerare di lavorare insieme a questa proposta\, analogamente all’accordo tra MAG e Fond. Finanza Etica\, per cui si propone di metterla all’ordine del giorno del prossimo coordinamento MAGico – come proposta da discutere a seguito dell’incontro con RIES.\n2) E’ stata condivisa la tabella di come le MAG stanno mettendo in ordine le loro diversità e all’incontro di Reggio Emilia MAG2/CO-Energia ha presentato la proposta “Fondo Clima”\, finalizzato a fornire un supporto finanziario ai produttori agricoli e a membri di GAS.\n3) Ogni organizzazione discute nel proprio ambito sulle forme di collaborazione proposte\, continuando il percorso su due piani contemporanei: da una parte a livello nazionale – proseguendo il lavoro in questo spazio tra coordinamento MAG e RIES\, dall’altra a livello locale – in rapporto al cerchio / gruppo di lavoro Comunità solidali di RIES -\, dove potremmo accordarci tra MAG e RIES per andare a vedere chi sono i soggetti soci presenti sui diversi territori e immaginare possibili modalità di conoscenza reciproca per andare a lavorare su bisogni e strumenti reciproci.  Occorre individuare insieme le domande utili per questo tipo di lavoro.
URL:https://rete-ries.it/evento/incontro-ries-coord-magico-2/
LOCATION:Online
CATEGORIES:Events
ATTACH;FMTTYPE=image/jpeg:https://rete-ries.it/wp-content/uploads/2023/03/Mag.jpg
ORGANIZER;CN="RIES":MAILTO:info@rete-ries.it
END:VEVENT
BEGIN:VEVENT
DTSTART;TZID=Europe/Rome:20240128T173000
DTEND;TZID=Europe/Rome:20240128T190000
DTSTAMP:20260423T083221
CREATED:20240123T173502Z
LAST-MODIFIED:20240123T173715Z
UID:10000226-1706463000-1706468400@rete-ries.it
SUMMARY:cont-ACT: Talk e Tavola Rotonda
DESCRIPTION:Due eventi aperti al pubblico per parlare di sostenibilità\, all’interno di cont-ACT\, Commercio Equo e Sostenibile in azione. \nGli appuntamenti aperti al pubblico\, con prenotazione obbligatoria si terranno presso lo Spazio Eventi della fiera: \n\nDomenica 28 gennaio alle ore 17.30 si terrà il talk “Nuove narrazioni per il Fair Trade e per l’Economia Sociale e Solidale” in cui interverranno Alice Pomiato (Aliceful)\, creator digitale di contenuti incentrati sulla sostenibilità\, Nogaye Ndiaye (Leregoledeldirittoperfetto)\, divulgatrice antirazzista e transfemminista e Deborah Lucchetti\, portavoce della campagna Abiti Puliti\, moderate da Imma Baccelliere\, giornalista di Radio Capital.\n\n\nMartedì 30 gennaio dalle ore 10.00\, si svolgerà\, invece\, la tavola rotonda “Filiere sostenibili e due diligence di impresa: buone pratiche e prospettive”. Il dibattito\, moderato da Matteo Macor\, giornalista de La Repubblica\, vedrà un confronto fra Martina Rogato\, consulente di sostenibilità e portavoce campagna Impresa 2030\, Luca Raffaele\, direttore Next – Nuova Economia X Tutti\, Elena Viganò\, docente di economia e estimo rurale presso l’Università degli Studi di Urbino Carlo Bo\, Pietro Fragasso\, presidente della Cooperativa Sociale Pietra di Scarto. Al termine\, previsto per le ore 12\, si terrà un brindisi di chiusura dell’intera manifestazione.\n\nClicca qui per maggiori informazioni
URL:https://rete-ries.it/evento/cont-act-talk-e-alla-tavola-rotonda/2024-01-28/
LOCATION:I frigoriferi milanesi\, Via G.B. Piranesi\, 10\, Milano\, Italy
CATEGORIES:Events
ATTACH;FMTTYPE=image/png:https://rete-ries.it/wp-content/uploads/2024/01/cont-ACT-EquoGarantito-1.png
END:VEVENT
BEGIN:VEVENT
DTSTART;TZID=Europe/Rome:20240130T100000
DTEND;TZID=Europe/Rome:20240130T120000
DTSTAMP:20260423T083221
CREATED:20240123T173502Z
LAST-MODIFIED:20240123T173715Z
UID:10000227-1706608800-1706616000@rete-ries.it
SUMMARY:cont-ACT: Talk e Tavola Rotonda
DESCRIPTION:Due eventi aperti al pubblico per parlare di sostenibilità\, all’interno di cont-ACT\, Commercio Equo e Sostenibile in azione. \nGli appuntamenti aperti al pubblico\, con prenotazione obbligatoria si terranno presso lo Spazio Eventi della fiera: \n\nDomenica 28 gennaio alle ore 17.30 si terrà il talk “Nuove narrazioni per il Fair Trade e per l’Economia Sociale e Solidale” in cui interverranno Alice Pomiato (Aliceful)\, creator digitale di contenuti incentrati sulla sostenibilità\, Nogaye Ndiaye (Leregoledeldirittoperfetto)\, divulgatrice antirazzista e transfemminista e Deborah Lucchetti\, portavoce della campagna Abiti Puliti\, moderate da Imma Baccelliere\, giornalista di Radio Capital.\n\n\nMartedì 30 gennaio dalle ore 10.00\, si svolgerà\, invece\, la tavola rotonda “Filiere sostenibili e due diligence di impresa: buone pratiche e prospettive”. Il dibattito\, moderato da Matteo Macor\, giornalista de La Repubblica\, vedrà un confronto fra Martina Rogato\, consulente di sostenibilità e portavoce campagna Impresa 2030\, Luca Raffaele\, direttore Next – Nuova Economia X Tutti\, Elena Viganò\, docente di economia e estimo rurale presso l’Università degli Studi di Urbino Carlo Bo\, Pietro Fragasso\, presidente della Cooperativa Sociale Pietra di Scarto. Al termine\, previsto per le ore 12\, si terrà un brindisi di chiusura dell’intera manifestazione.\n\nClicca qui per maggiori informazioni
URL:https://rete-ries.it/evento/cont-act-talk-e-alla-tavola-rotonda/2024-01-30/
LOCATION:I frigoriferi milanesi\, Via G.B. Piranesi\, 10\, Milano\, Italy
CATEGORIES:Events
ATTACH;FMTTYPE=image/png:https://rete-ries.it/wp-content/uploads/2024/01/cont-ACT-EquoGarantito-1.png
END:VEVENT
END:VCALENDAR