BEGIN:VCALENDAR
VERSION:2.0
PRODID:-//RIES - Rete Italiana Economia Solidale - ECPv6.15.20//NONSGML v1.0//EN
CALSCALE:GREGORIAN
METHOD:PUBLISH
X-ORIGINAL-URL:https://rete-ries.it
X-WR-CALDESC:Eventi per RIES - Rete Italiana Economia Solidale
REFRESH-INTERVAL;VALUE=DURATION:PT1H
X-Robots-Tag:noindex
X-PUBLISHED-TTL:PT1H
BEGIN:VTIMEZONE
TZID:Europe/Rome
BEGIN:DAYLIGHT
TZOFFSETFROM:+0100
TZOFFSETTO:+0200
TZNAME:CEST
DTSTART:20240331T010000
END:DAYLIGHT
BEGIN:STANDARD
TZOFFSETFROM:+0200
TZOFFSETTO:+0100
TZNAME:CET
DTSTART:20241027T010000
END:STANDARD
BEGIN:DAYLIGHT
TZOFFSETFROM:+0100
TZOFFSETTO:+0200
TZNAME:CEST
DTSTART:20250330T010000
END:DAYLIGHT
BEGIN:STANDARD
TZOFFSETFROM:+0200
TZOFFSETTO:+0100
TZNAME:CET
DTSTART:20251026T010000
END:STANDARD
BEGIN:DAYLIGHT
TZOFFSETFROM:+0100
TZOFFSETTO:+0200
TZNAME:CEST
DTSTART:20260329T010000
END:DAYLIGHT
BEGIN:STANDARD
TZOFFSETFROM:+0200
TZOFFSETTO:+0100
TZNAME:CET
DTSTART:20261025T010000
END:STANDARD
END:VTIMEZONE
BEGIN:VEVENT
DTSTART;TZID=Europe/Rome:20250204T173000
DTEND;TZID=Europe/Rome:20250204T190000
DTSTAMP:20260421T210257
CREATED:20250128T210931Z
LAST-MODIFIED:20250303T094302Z
UID:10000302-1738690200-1738695600@rete-ries.it
SUMMARY:Looking Up Tuesday
DESCRIPTION:Webinar di formazione online sui temi dell’economia sociale proposto all’interno del progetto europeo Looking Up. (Clicca qui per scaricare qui il programma) \nI “Looking up Tuesdays” sono momenti formativi e di scambio online sui temi dell’economia sociale e solidale e lo sviluppo locale partecipato all’interno del progetto europeo Looking Up\, guidato da Solidarius Italia\, insieme a UFISC e CRIES. \nTerminato il secondo ciclo di webinar realizzato tra gennaio e febbraio sul tema dei luoghi artistici e culturali alternativi nella transizione ecologica\, ora è il turno del partner rumeno CRIES che affronterà il tema delle relazioni nella dimensione urbana e rurale attraverso il cibo e le filiere corte. \nIn tre incontri saranno ospitati alcuni esperti e si esplorerà il tema analizzando due casi studio: Alimenterra e ASAT. \nDi seguito il calendario e il programma: \n\nWebinar 1- Martedì 11 marzo 2025: Il sistema alimentare globale ed il suo impatto\n\n– Introduzione al ciclo di seminari – CRIES;\n– Potere geopolitico del cibo globale;\n– Il potere dei consumatori: comprare come atto socio-politico. \nCon Giorgio Dal Fiume (Fair Trade expert) e Sergiu Florean (Alimenterra) \n\nWebinar 2- Martedì 18 marzo 2025: Costruire comunità resilienti. Comprendere e rafforzare le filiere corte\n\n– Comprendere il modello delle filiere corte;\n– Benefici e impatto delle filiere corte alimentari. Il caso di ASAT.\n– Limiti del modello delle filiere corte alimentari: la trappola del “localismo” e i rischi delle narrazioni di estrema destra. \nCon Sergiu Florean (Alimenterra)\, Marius Cobârzan (ASAT)\, Mihaela Vețan (CRIES) \n\nWebinar 3 – Martedì 25 marzo 2025: Costruire sistemi alimentari locali forti. Identificare e analizzare le risorse per le filiere corte\n\nQuesto modulo esplora le strategie per rafforzare le filiere corte alimentari ottimizzando risorse chiave\n– Capitale umano e trasferimento di conoscenze per i produttori\n– Impegno della comunità e consapevolezza dei consumatori;\n– Il ruolo delle autorità pubbliche\, esaminando gli strumenti finanziari\, i sistemi di qualità e il supporto politico per i sistemi alimentari locali. \nCon Cristi Gherghiceanu (ADEPT Foundation)\, Sergiu Florean (Alimenterra)\, George Cățean (Ferma Cățean) \nI webinar si svolgeranno su piattaforma Zoom dalle 17:30 alle 19:00 e saranno condotti in lingua inglese. \nPer registrarsi: https://shorturl.at/EHpIZ \nPer saperne di più sul progetto: Booklet di presentazione o info@solidariusitalia.it
URL:https://rete-ries.it/evento/looking-up-tuesday/2025-02-04/
LOCATION:Online
CATEGORIES:Events
ATTACH;FMTTYPE=image/jpeg:https://rete-ries.it/wp-content/uploads/2025/01/logo-looking-up_s.jpg
END:VEVENT
BEGIN:VEVENT
DTSTART;TZID=Europe/Rome:20250211T173000
DTEND;TZID=Europe/Rome:20250211T190000
DTSTAMP:20260421T210257
CREATED:20250128T210931Z
LAST-MODIFIED:20250303T094302Z
UID:10000303-1739295000-1739300400@rete-ries.it
SUMMARY:Looking Up Tuesday
DESCRIPTION:Webinar di formazione online sui temi dell’economia sociale proposto all’interno del progetto europeo Looking Up. (Clicca qui per scaricare qui il programma) \nI “Looking up Tuesdays” sono momenti formativi e di scambio online sui temi dell’economia sociale e solidale e lo sviluppo locale partecipato all’interno del progetto europeo Looking Up\, guidato da Solidarius Italia\, insieme a UFISC e CRIES. \nTerminato il secondo ciclo di webinar realizzato tra gennaio e febbraio sul tema dei luoghi artistici e culturali alternativi nella transizione ecologica\, ora è il turno del partner rumeno CRIES che affronterà il tema delle relazioni nella dimensione urbana e rurale attraverso il cibo e le filiere corte. \nIn tre incontri saranno ospitati alcuni esperti e si esplorerà il tema analizzando due casi studio: Alimenterra e ASAT. \nDi seguito il calendario e il programma: \n\nWebinar 1- Martedì 11 marzo 2025: Il sistema alimentare globale ed il suo impatto\n\n– Introduzione al ciclo di seminari – CRIES;\n– Potere geopolitico del cibo globale;\n– Il potere dei consumatori: comprare come atto socio-politico. \nCon Giorgio Dal Fiume (Fair Trade expert) e Sergiu Florean (Alimenterra) \n\nWebinar 2- Martedì 18 marzo 2025: Costruire comunità resilienti. Comprendere e rafforzare le filiere corte\n\n– Comprendere il modello delle filiere corte;\n– Benefici e impatto delle filiere corte alimentari. Il caso di ASAT.\n– Limiti del modello delle filiere corte alimentari: la trappola del “localismo” e i rischi delle narrazioni di estrema destra. \nCon Sergiu Florean (Alimenterra)\, Marius Cobârzan (ASAT)\, Mihaela Vețan (CRIES) \n\nWebinar 3 – Martedì 25 marzo 2025: Costruire sistemi alimentari locali forti. Identificare e analizzare le risorse per le filiere corte\n\nQuesto modulo esplora le strategie per rafforzare le filiere corte alimentari ottimizzando risorse chiave\n– Capitale umano e trasferimento di conoscenze per i produttori\n– Impegno della comunità e consapevolezza dei consumatori;\n– Il ruolo delle autorità pubbliche\, esaminando gli strumenti finanziari\, i sistemi di qualità e il supporto politico per i sistemi alimentari locali. \nCon Cristi Gherghiceanu (ADEPT Foundation)\, Sergiu Florean (Alimenterra)\, George Cățean (Ferma Cățean) \nI webinar si svolgeranno su piattaforma Zoom dalle 17:30 alle 19:00 e saranno condotti in lingua inglese. \nPer registrarsi: https://shorturl.at/EHpIZ \nPer saperne di più sul progetto: Booklet di presentazione o info@solidariusitalia.it
URL:https://rete-ries.it/evento/looking-up-tuesday/2025-02-11/
LOCATION:Online
CATEGORIES:Events
ATTACH;FMTTYPE=image/jpeg:https://rete-ries.it/wp-content/uploads/2025/01/logo-looking-up_s.jpg
END:VEVENT
BEGIN:VEVENT
DTSTART;TZID=Europe/Rome:20250211T210000
DTEND;TZID=Europe/Rome:20250211T230000
DTSTAMP:20260421T210257
CREATED:20250127T101348Z
LAST-MODIFIED:20250127T101348Z
UID:10000299-1739307600-1739314800@rete-ries.it
SUMMARY:Effetto GAS: La piccola distribuzione organizzata
DESCRIPTION:Martedì 11 febbraio 2025 alle 21 si tiene il quarto incontro online del percorso “Effetto Gas 2025” dedicato alla Piccola Distribuzione Organizzata (PDO) con la presentazione di esperienze di reti di Gas che affrontano il punto della distribuzione.\nQuesti incontri intendono evidenziare nelle esperienze raccontate alcuni elementi che sollecitano all’evoluzione sui temi delle comunità di pratica nella distribuzione e del ruolo delle infrastrutture (SW e piattaforme); sentendosi parte di un percorso comune di trasformazione ci aiutiamo ad affrontare le sfide del nostro tempo. \nVai al sito economiasolidale.net per approfondire  \nPer partecipare all’incontro è necessario iscriversi a questo link:\nhttps://www.co-energia.org/effettogas2025\n(in fase di iscrizione selezionare la data dell’incontro a cui si intende partecipare; è consigliato iscriversi da PC\, in alcuni casi da cellulare non funziona).
URL:https://rete-ries.it/evento/effetto-gas-la-piccola-distribuzione-organizzata/
LOCATION:Online
CATEGORIES:Events
ATTACH;FMTTYPE=image/png:https://rete-ries.it/wp-content/uploads/2025/01/Solidalia_240525_162409_EFG_evento_800_0.png
END:VEVENT
BEGIN:VEVENT
DTSTART;VALUE=DATE:20250221
DTEND;VALUE=DATE:20250224
DTSTAMP:20260421T210257
CREATED:20250221T165606Z
LAST-MODIFIED:20250221T165708Z
UID:10000308-1740096000-1740355199@rete-ries.it
SUMMARY:Sfashion weekend: la moda giusta dal giusto punto di vista
DESCRIPTION:In concomitanza con la Fashion Week di Milano\, parte l’evento alternativo “Sfashion Weekend” per mettere in discussione il modello dominante della moda. \nSi tratta del primo festival in Italia dedicato alla transizione giusta nella moda\, organizzato dalla Campagna Abiti Puliti insieme a Fair e numerose realtà della società civile. \nDal 21 al 23 febbraio\, il centro culturale Mosso ospita tre giorni di dibattiti\, performance\, una mostra e momenti di scambio per raccontare che è possibile ribaltare quell’universo che si nutre di sfruttamento\, inquinamento e disuguaglianze su scala globale \nClicca qui per scaricare il programma \nClicca qui per maggiori informazioni
URL:https://rete-ries.it/evento/sfashion-weekend-la-moda-giusta-dal-giusto-punto-di-vista/
LOCATION:Mosso di Milano\, via Mosso\, 3\, Milano\, Italy
CATEGORIES:Events
ATTACH;FMTTYPE=image/jpeg:https://rete-ries.it/wp-content/uploads/2025/02/Orizzontale-Sfashion-Weekend-loghi-1.jpg
END:VEVENT
BEGIN:VEVENT
DTSTART;TZID=Europe/Rome:20250222T103000
DTEND;TZID=Europe/Rome:20250222T170000
DTSTAMP:20260421T210257
CREATED:20250221T163803Z
LAST-MODIFIED:20250221T163953Z
UID:10000307-1740220200-1740243600@rete-ries.it
SUMMARY:CO-energia: giornata di confronto dei GDL e dei soci
DESCRIPTION:Si rinnova l’appuntamento di febbraio che da 2 anni CO-energia dedica alle riflessioni sul proprio futuro nell’ambito dell’Economia Solidale (e non solo). \nLe riflessioni proposte nell’incontro di quest’anno saranno declinate in quattro aree tematiche:\n– Sovranità politica\n– Sovranità alimentare\n– Sovranità energetica\n– Sovranità finanziaria \nCliccando qui si possono avere tutte le informazioni e scaricare i materiali che saranno proposti sabato 22 nella “Giornata di confronto tra GdL e soci di CO-energia” a Bologna\, a cui parteciperanno anche alcuni ‘compagni di strada’ dei percorsi EcoSol.
URL:https://rete-ries.it/evento/co-energia-giornata-di-confronto-dei-gdl-e-dei-soci/
LOCATION:Fondazione Barberini\, Bologna\, via Mentana 2\, Bologna\, Italy
CATEGORIES:Events
ATTACH;FMTTYPE=image/jpeg:https://rete-ries.it/wp-content/uploads/2025/02/giornata-confronto-coenergia.jpg
END:VEVENT
BEGIN:VEVENT
DTSTART;TZID=Europe/Rome:20250225T210000
DTEND;TZID=Europe/Rome:20250225T230000
DTSTAMP:20260421T210257
CREATED:20250127T103246Z
LAST-MODIFIED:20250127T113049Z
UID:10000300-1740517200-1740524400@rete-ries.it
SUMMARY:Effetto GAS: SW gestionali per i GAS
DESCRIPTION:All’interno del percorso “Effetto Gas 2025”\, martedì 25 febbraio si tiene un incontro online di approfondimento sui Software gestionali per i Gas. \nIl tema suscita molto interesse perché si tratta di strumenti importanti per l’agile gestione degli ordini GAS e conoscere e condividere le esperienze in atto con i software esistenti è un bisogno emerso dai “gasisti”.\nQuesto incontro prevede uno scambio di informazioni tra utilizzatori\, partendo da una rapida carrellata/elenco dei SW gestionali in uso dai partecipanti e quindi segnalando eventuali esigenze da parte degli utilizzatori per capire quali sono le possibili soluzioni; in seguito a questo scambio si potranno stabilire delle azioni specifiche da portare avanti insieme agli interessati. \nPer partecipare all’incontro è necessario iscriversi a questo link:\nhttps://www.co-energia.org/effettogas2025\nIn fase di iscrizione selezionare la data dell’incontro: 25 febbraio (è consigliato iscriversi da PC\, in alcuni casi da cellulare non funziona). \nPer maggiori informazioni clicca qui \n 
URL:https://rete-ries.it/evento/effetto-gas-sw-gestionali-per-i-gas/
LOCATION:Online
CATEGORIES:Events
ATTACH;FMTTYPE=image/png:https://rete-ries.it/wp-content/uploads/2025/01/Solidalia_240525_162409_EFG_evento_800_0.png
END:VEVENT
END:VCALENDAR