BEGIN:VCALENDAR
VERSION:2.0
PRODID:-//RIES - Rete Italiana Economia Solidale - ECPv6.15.20//NONSGML v1.0//EN
CALSCALE:GREGORIAN
METHOD:PUBLISH
X-WR-CALNAME:RIES - Rete Italiana Economia Solidale
X-ORIGINAL-URL:https://rete-ries.it
X-WR-CALDESC:Eventi per RIES - Rete Italiana Economia Solidale
REFRESH-INTERVAL;VALUE=DURATION:PT1H
X-Robots-Tag:noindex
X-PUBLISHED-TTL:PT1H
BEGIN:VTIMEZONE
TZID:Europe/Rome
BEGIN:DAYLIGHT
TZOFFSETFROM:+0100
TZOFFSETTO:+0200
TZNAME:CEST
DTSTART:20210328T010000
END:DAYLIGHT
BEGIN:STANDARD
TZOFFSETFROM:+0200
TZOFFSETTO:+0100
TZNAME:CET
DTSTART:20211031T010000
END:STANDARD
BEGIN:DAYLIGHT
TZOFFSETFROM:+0100
TZOFFSETTO:+0200
TZNAME:CEST
DTSTART:20220327T010000
END:DAYLIGHT
BEGIN:STANDARD
TZOFFSETFROM:+0200
TZOFFSETTO:+0100
TZNAME:CET
DTSTART:20221030T010000
END:STANDARD
BEGIN:DAYLIGHT
TZOFFSETFROM:+0100
TZOFFSETTO:+0200
TZNAME:CEST
DTSTART:20230326T010000
END:DAYLIGHT
BEGIN:STANDARD
TZOFFSETFROM:+0200
TZOFFSETTO:+0100
TZNAME:CET
DTSTART:20231029T010000
END:STANDARD
END:VTIMEZONE
BEGIN:VEVENT
DTSTART;TZID=Europe/Rome:20220421T173000
DTEND;TZID=Europe/Rome:20220421T190000
DTSTAMP:20260424T163711
CREATED:20220412T212212Z
LAST-MODIFIED:20220413T211158Z
UID:10000108-1650562200-1650567600@rete-ries.it
SUMMARY:Master SiT: incontro con gli stakeholder
DESCRIPTION:Primo appuntamento del percorso che accompagnerà l’avvio della nuova edizione del Master di I livello “Saperi in Transizione. Strumenti e pratiche per una cittadinanza ecologica e globale“\, promosso dal Laboratorio TiLT|Territori in Libera Transizione\, nuovo socio della RIES e dalle Università di Trento\, Verona e Parma. \nIl 21 aprile il Master si presenterà a tutti/e coloro che vorranno conoscerlo e accompagnarlo\, frequentandolo o supportandolo. Una delle novità di questa nuova edizione sarà il crowdfunding che verrà ufficialmente lanciato il 1° maggio a “Fa’ La Cosa Giusta Milano”\, dal laboratorio TiLT e dalla RIES. \n→ per connettersi https://bit.ly/MasterSiT [passcode: SiT] \nLeggi l’articolo di approfondimento
URL:https://rete-ries.it/evento/master-sit-incontro-con-gli-stakeholder/
LOCATION:Online
ATTACH;FMTTYPE=image/jpeg:https://rete-ries.it/wp-content/uploads/2022/04/Save-the-Date.jpg
END:VEVENT
BEGIN:VEVENT
DTSTART;TZID=Europe/Rome:20220421T210000
DTEND;TZID=Europe/Rome:20220421T230000
DTSTAMP:20260424T163711
CREATED:20220412T200238Z
LAST-MODIFIED:20220412T201149Z
UID:10000106-1650574800-1650582000@rete-ries.it
SUMMARY:DiSoTTo: la PDO a Torino
DESCRIPTION:Su richiesta del Gas Le Giare di Reggio Emilia\, il 21 aprile si terrà un evento online organizzato dal GAStorino e le cooperative con cui collabora\, per raccontare il progetto DiSoTTo (Distribuzione Solidale sul Territorio Torinese) relativo alla distribuzione degli ordini collettivi intergas. \n\n\nIl progetto di Piccola Distribuzione Organizzata (PDO) coinvolge i Gas dell’area torinese e tre cooperative che seguono la parte logistica con consegne mensili. \nPer partecipare è necessario iscriversi a questo link: https://tinyurl.com/progettoDiSoTTo \n \nScopri come funziona “DiSoTTo”
URL:https://rete-ries.it/evento/disotto-la-pdo-a-torino/
LOCATION:on line
ATTACH;FMTTYPE=image/gif:https://rete-ries.it/wp-content/uploads/2022/04/2004_DiSoTTo_2_800.gif
END:VEVENT
END:VCALENDAR