BEGIN:VCALENDAR
VERSION:2.0
PRODID:-//RIES - Rete Italiana Economia Solidale - ECPv6.15.20//NONSGML v1.0//EN
CALSCALE:GREGORIAN
METHOD:PUBLISH
X-WR-CALNAME:RIES - Rete Italiana Economia Solidale
X-ORIGINAL-URL:https://rete-ries.it
X-WR-CALDESC:Eventi per RIES - Rete Italiana Economia Solidale
REFRESH-INTERVAL;VALUE=DURATION:PT1H
X-Robots-Tag:noindex
X-PUBLISHED-TTL:PT1H
BEGIN:VTIMEZONE
TZID:Europe/Rome
BEGIN:DAYLIGHT
TZOFFSETFROM:+0100
TZOFFSETTO:+0200
TZNAME:CEST
DTSTART:20210328T010000
END:DAYLIGHT
BEGIN:STANDARD
TZOFFSETFROM:+0200
TZOFFSETTO:+0100
TZNAME:CET
DTSTART:20211031T010000
END:STANDARD
BEGIN:DAYLIGHT
TZOFFSETFROM:+0100
TZOFFSETTO:+0200
TZNAME:CEST
DTSTART:20220327T010000
END:DAYLIGHT
BEGIN:STANDARD
TZOFFSETFROM:+0200
TZOFFSETTO:+0100
TZNAME:CET
DTSTART:20221030T010000
END:STANDARD
BEGIN:DAYLIGHT
TZOFFSETFROM:+0100
TZOFFSETTO:+0200
TZNAME:CEST
DTSTART:20230326T010000
END:DAYLIGHT
BEGIN:STANDARD
TZOFFSETFROM:+0200
TZOFFSETTO:+0100
TZNAME:CET
DTSTART:20231029T010000
END:STANDARD
END:VTIMEZONE
BEGIN:VEVENT
DTSTART;TZID=Europe/Rome:20220503T173000
DTEND;TZID=Europe/Rome:20220503T200000
DTSTAMP:20260424T175901
CREATED:20220502T213145Z
LAST-MODIFIED:20220502T213145Z
UID:10000111-1651599000-1651608000@rete-ries.it
SUMMARY:Scuola Attivazione Politica: 1° incontro 2022 area Sud
DESCRIPTION:Per una transizione ecologica\, equa solidale: le Economie Trasformative verso nuovi paradigmi di sviluppo locale integrale \n  \nTavola Rotonda \nInterventi di: \nMonica Di Sisto\, Fairwatch \nJason Nardi\, RIES – Rete Italiana Economia Solidale e RIPESS Europa (Rete Intercontinentale per la Promozione dell’Economia Sociale Solidale) \nGiuseppe Notarstefano\, ricercatore Dip. Giurisprudenza LUMSA Palermo\, Com. Scientifico FLCG Sicilia. L’Ecologia Integrale \nVirginia Meo – Oltre Mercato Salento e direttivo Ries \nRenato Briganti – Docente di Istituzioni di Diritto pubblico presso la Facoltà di Economia e di Diritto dell’ambiente presso la Facoltà di Scienze Naturali\, dell’Università di Napoli «Federico II». Mani Tese-Campania. \nMartina Lo Cascio  rete nazionale Fuorimercato – Autogestione in Movimento \nIntroduce e modera l’incontro : \nRiccardo Troisi\, Fairwatch Italia\, ricercatore Università Cooperativa di Colombia. \n 
URL:https://rete-ries.it/evento/scuola-attivazione-politica-1-incontro-2022-area-sud/
LOCATION:Online
ATTACH;FMTTYPE=image/jpeg:https://rete-ries.it/wp-content/uploads/2022/05/SAP_incontro_030522.jpeg
ORGANIZER;CN="RIES":MAILTO:info@rete-ries.it
END:VEVENT
BEGIN:VEVENT
DTSTART;VALUE=DATE:20220506
DTEND;VALUE=DATE:20220508
DTSTAMP:20260424T175901
CREATED:20220423T145314Z
LAST-MODIFIED:20220423T145430Z
UID:10000109-1651795200-1651967999@rete-ries.it
SUMMARY:Il monitoraggio della biodiversità nelle aziende agricole biologiche
DESCRIPTION:Conoscere e rilevare la biodiversità naturale dello spazio agricolo è di fondamentale importanza ai fini della valutazione dello stato di equilibrio delle aziende agricole\, del territorio rurale e dell’impatto delle attività umane sull’ambiente. Queste metodologie permettono di acquisire informazioni e dati di grande utilità ai fini della programmazione delle pratiche colturali e del monitoraggio costante delle stesse. Sono anche un importante strumento che può essere utilizzato da agricoltori\, tecnici ed anche semplici cittadini\, interessati a partecipare attivamente ad un governo sostenibile del territorio rurale ed agricolo. \nQuesta iniziativa aiuta e fornisce strumenti per valutare la fertilità del suolo e la qualità dell’aria e dell’acqua delle aziende agricole biologiche attraverso gli Indici di Biodiversità. \nLa partecipazione è gratuita e a numero chiuso\, per cui è necessario iscriversi compilando il form al link: bit.ly/iscrizione67maggio \nA ridosso dell’evento verrà data conferma della partecipazione.
URL:https://rete-ries.it/evento/il-monitoraggio-della-biodiversita-nelle-aziende-agricole-biologiche/
LOCATION:Agriturismo I Toschi\, via Canova 4\, Vignola\, Italia
ATTACH;FMTTYPE=image/jpeg:https://rete-ries.it/wp-content/uploads/2022/04/banner-sito.jpg
END:VEVENT
END:VCALENDAR