BEGIN:VCALENDAR
VERSION:2.0
PRODID:-//RIES - Rete Italiana Economia Solidale - ECPv6.15.20//NONSGML v1.0//EN
CALSCALE:GREGORIAN
METHOD:PUBLISH
X-WR-CALNAME:RIES - Rete Italiana Economia Solidale
X-ORIGINAL-URL:https://rete-ries.it
X-WR-CALDESC:Eventi per RIES - Rete Italiana Economia Solidale
REFRESH-INTERVAL;VALUE=DURATION:PT1H
X-Robots-Tag:noindex
X-PUBLISHED-TTL:PT1H
BEGIN:VTIMEZONE
TZID:Europe/Rome
BEGIN:DAYLIGHT
TZOFFSETFROM:+0100
TZOFFSETTO:+0200
TZNAME:CEST
DTSTART:20210328T010000
END:DAYLIGHT
BEGIN:STANDARD
TZOFFSETFROM:+0200
TZOFFSETTO:+0100
TZNAME:CET
DTSTART:20211031T010000
END:STANDARD
BEGIN:DAYLIGHT
TZOFFSETFROM:+0100
TZOFFSETTO:+0200
TZNAME:CEST
DTSTART:20220327T010000
END:DAYLIGHT
BEGIN:STANDARD
TZOFFSETFROM:+0200
TZOFFSETTO:+0100
TZNAME:CET
DTSTART:20221030T010000
END:STANDARD
BEGIN:DAYLIGHT
TZOFFSETFROM:+0100
TZOFFSETTO:+0200
TZNAME:CEST
DTSTART:20230326T010000
END:DAYLIGHT
BEGIN:STANDARD
TZOFFSETFROM:+0200
TZOFFSETTO:+0100
TZNAME:CET
DTSTART:20231029T010000
END:STANDARD
END:VTIMEZONE
BEGIN:VEVENT
DTSTART;TZID=Europe/Rome:20220516T183000
DTEND;TZID=Europe/Rome:20220516T203000
DTSTAMP:20260424T151357
CREATED:20220513T080819Z
LAST-MODIFIED:20220513T081052Z
UID:10000114-1652725800-1652733000@rete-ries.it
SUMMARY:Gli incontri "Verso Venezia 2022" - Decrescita e Green New Deal
DESCRIPTION:Nel percorso “Verso Venezia 2022”\, il gruppo di Roma dell’Associazione per la decrescita organizza un incontro di discussione sulle nuove proposte politiche della decrescita e del Green New Deal. \nLa decrescita e il Green New Deal rappresentano due narrazioni e visioni distinte per una rapida decarbonizzazione\, con sinergie e tensioni. E’ possibile incorporare queste due prospettive per un “Green New Deal senza crescita”? \nNe discuteremo con: \nRiccardo Mastini\, ricercatore all’Università Autonoma di Barcellona\nMario Sassi\, co-autore di “Uscita di Emergenza”\nMaria Zinutti dei Giovani Europeisti Verdi\nUnione dei Giovani di Sinistra\nGiovani Democratici\nGioventù Federalista Europea\nLa France Insoumise\nVolt \nLunedì 16 maggio alle 18:30 a Roma: Decrescita e Green New Deal: nuove proposte politiche
URL:https://rete-ries.it/evento/gli-incontri-verso-venezia-2022-decrescita-e-green-new-deal/
LOCATION:Casa del Municipio\, Roma
ATTACH;FMTTYPE=image/png:https://rete-ries.it/wp-content/uploads/2022/04/logoVenezia__.png
ORGANIZER;CN="Associazione per la decrescita":MAILTO:roma.decrescita@gmail.com
END:VEVENT
BEGIN:VEVENT
DTSTART;TZID=Europe/Rome:20220518T180000
DTEND;TZID=Europe/Rome:20220518T200000
DTSTAMP:20260424T151357
CREATED:20220513T081521Z
LAST-MODIFIED:20220513T081840Z
UID:10000115-1652896800-1652904000@rete-ries.it
SUMMARY:Gli incontri "Verso Venezia 2022" - Presentazione di "Uscita di Emergenza"
DESCRIPTION:Conversazione con i referenti del percorso basato sul documento Uscita di Emergenza disponibile a questo link: https://venezia2022.it/uscita-di-emergenza.pdf \nPer partecipare\, si prega di compilare questo modulo.
URL:https://rete-ries.it/evento/gli-incontri-verso-venezia-2022-presentazione-di-uscita-di-emergenza/
LOCATION:https://www.facebook.com/AssociazioneDecrescita
ATTACH;FMTTYPE=image/png:https://rete-ries.it/wp-content/uploads/2022/04/logoVenezia__.png
ORGANIZER;CN="Associazione Decrescita":MAILTO:mariosassi23@gmail.com
END:VEVENT
BEGIN:VEVENT
DTSTART;VALUE=DATE:20220521
DTEND;VALUE=DATE:20220522
DTSTAMP:20260424T151357
CREATED:20220519T143812Z
LAST-MODIFIED:20220519T144101Z
UID:10000117-1653091200-1653177599@rete-ries.it
SUMMARY:SECONDA FESTA DELLA FINANZA CRITICA
DESCRIPTION:Un’occasione per far conoscere MAG Firenze (Cooperativa Finanziaria Mutualistica Autogestita)\, ma anche per favorire l’incontro fra le realtà finanziate e aumentare le relazioni e le sinergie muovendo i passi verso la realizzazione di un tessuto economico alternativo con lo scambio di saperi e di conoscenze.\nOspiti di InStabile – Culture in Movimento\, spazio culturale indipendente (progetto finanziato da MAG Firenze)\, ragioneremo sull’importanza di circuiti finanziari alternativi nel contesto attuale quale strumento di lotta contro lo strapotere del denaro e della finanza. \nOre 14:30-19:30 Tavoli informativi delle realtà di microcredito e delle realtà finanziate da\nMAG Firenze \nOre 16:30-19:00 Microfono aperto con MAG Firenze: quando il denaro conta più delle\npersone\, i guasti della finanza \nParliamone con FRANCUCCIO GESUALDI attivista e saggista\, già allievo di Don Lorenzo Milani\,\nLORENZO GUADAGNUCCI giornalista e scrittore\,\nCOLLETTIVO DI FABBRICA GKN\,\nDON ALESSANDRO SANTORO Presidente MAG Firenze \nPer chi vorrà\, la serata proseguirà con cena e spettacolo teatrale a cura di InStabile Culture in Movimento\n\nOre 21:00 Circo-teatro – RITMI AZIENDALI – Alessandro Riccio e la compagnia “Ball Percussion”\nUn imprenditore di successo assume tre operai per lavorare nella sua fabbrica\, dove il ritmo\, tempismo e attenzione sono fondamentali. Per aumentare la produzione e il profitto\, l’imprenditore è disposto a tutto\, anche a spremere i suoi uomini fino all’ultimo limite. Uno spettacolo dove la teatralità viene contaminata dalla giocoleria e dal body percussion.\nIngresso a biglietteria: 12€/10€/6€; età: per tutti; durata: 70′\nPrenotazioni: instabileteatrocirco@gmail.com 3338902161 (cena) | 3669772005(spettacolo)\n \n\nVia della Funga 27/B (sotto il ponte del Varlungo) Firenze\ninfo: www.magfirenze.it – FB Festa della Finanza Critica
URL:https://rete-ries.it/evento/seconda-festa-della-finanza-critica/
LOCATION:MAG FIRENZE via della Funga 27/b Firenze\, via della Funga 27/B\, Firenze\, Italia
ATTACH;FMTTYPE=image/jpeg:https://rete-ries.it/wp-content/uploads/2022/05/VolantinoFesta21Maggiook-e1652974762744.jpg
END:VEVENT
END:VCALENDAR