BEGIN:VCALENDAR
VERSION:2.0
PRODID:-//RIES - Rete Italiana Economia Solidale - ECPv6.15.20//NONSGML v1.0//EN
CALSCALE:GREGORIAN
METHOD:PUBLISH
X-WR-CALNAME:RIES - Rete Italiana Economia Solidale
X-ORIGINAL-URL:https://rete-ries.it
X-WR-CALDESC:Eventi per RIES - Rete Italiana Economia Solidale
REFRESH-INTERVAL;VALUE=DURATION:PT1H
X-Robots-Tag:noindex
X-PUBLISHED-TTL:PT1H
BEGIN:VTIMEZONE
TZID:Europe/Rome
BEGIN:DAYLIGHT
TZOFFSETFROM:+0100
TZOFFSETTO:+0200
TZNAME:CEST
DTSTART:20210328T010000
END:DAYLIGHT
BEGIN:STANDARD
TZOFFSETFROM:+0200
TZOFFSETTO:+0100
TZNAME:CET
DTSTART:20211031T010000
END:STANDARD
BEGIN:DAYLIGHT
TZOFFSETFROM:+0100
TZOFFSETTO:+0200
TZNAME:CEST
DTSTART:20220327T010000
END:DAYLIGHT
BEGIN:STANDARD
TZOFFSETFROM:+0200
TZOFFSETTO:+0100
TZNAME:CET
DTSTART:20221030T010000
END:STANDARD
BEGIN:DAYLIGHT
TZOFFSETFROM:+0100
TZOFFSETTO:+0200
TZNAME:CEST
DTSTART:20230326T010000
END:DAYLIGHT
BEGIN:STANDARD
TZOFFSETFROM:+0200
TZOFFSETTO:+0100
TZNAME:CET
DTSTART:20231029T010000
END:STANDARD
END:VTIMEZONE
BEGIN:VEVENT
DTSTART;VALUE=DATE:20220611
DTEND;VALUE=DATE:20220612
DTSTAMP:20260424T153849
CREATED:20220523T090941Z
LAST-MODIFIED:20220523T090941Z
UID:10000118-1654905600-1654991999@rete-ries.it
SUMMARY:Solidalia: la festa dell'economia solidale parmense
DESCRIPTION:Arriva nel territorio parmense una nuova occasione di confronto\, approfondimento e divertimento sui temi della sostenibilità sociale e economica\, ambientale e alimentare: SOLIDALIA 2022\, la FESTA DELL’ECONOMIA SOLIDALE è una manifestazione promossa da DES (Distretto Economia Solidale) Parma e si terrà sabato 11 giugno dalle ore 9.30 a mezzanotte presso la Fattoria di Vigheffio (Collecchio). Le cittadine e i cittadini potranno partecipare in modo libero a gratuito a un’esperienza unica di immersione nei tanti temi che l’economia solidale implica. Ma SOLIDALIA non è solo una festa: è anche un mercato\, ricchissimo di varietà alimentari e artigianali\, un’occasione per incontri e laboratori\, concerti e mercatino del riuso. La festa è organizzata dal DES Parma\, il Distretto di Economia Solidale cittadino\, in collaborazione con Comune di Parma\, Comune di Collecchio e Comune di Fidenza\, AUSL di Parma\, Emc2 Onlus\, Avalon e con il contributo di Fondazione Cariparma.
URL:https://rete-ries.it/evento/solidalia-la-festa-delleconomia-solidale-parmense/
ATTACH;FMTTYPE=image/jpeg:https://rete-ries.it/wp-content/uploads/2022/05/Solidalia_2_800.jpeg
END:VEVENT
BEGIN:VEVENT
DTSTART;TZID=Europe/Rome:20220612T100000
DTEND;TZID=Europe/Rome:20220612T170000
DTSTAMP:20260424T153849
CREATED:20220609T082214Z
LAST-MODIFIED:20220609T082503Z
UID:10000120-1655028000-1655053200@rete-ries.it
SUMMARY:Politiche del Cibo. Certificazione partecipata e comunitaria
DESCRIPTION:S’intitola “Politiche per il cibo. Certificazione partecipata e comunitaria” l’evento in programma a Preganziol\, in provincia di Treviso. \nUna giornata che si aprirà alle ore 10 con un convegno durante il quale ci saranno riflessioni e testimonianze di esperienze agricole che mettono al centro la relazione interpersonale nella prospettiva di creare una comunità consapevole che certifichi la bontà ecologica del cibo in cui crede e che la nutre. \nAlle ore 13 ci si trasferirà presso l’agriturismo di Rio Selva per il pranzo (15 euro a persone\, bevande escluse) e alle 14.30 è in programma cerchi di approfondimento agromomico. \nInterverranno Riccardo Bovo\, assessore all’ambiente del comune di Preganziol; Jason Nardi\, presidente dI RIES; Gianni Tamino\, biologo e rappresentante dell’organizzazione di Venezia 2022; Franco Zecchinato\, presidente della coop. agricola biologica ElTamiso; Domenico Maffeo\, presidente di OltreConfine – Distretto di economia solidale e rappresentante legale della biofattoria Rio Selva. \nL’evento è organizzato da Verso Venezia 2022\, Ries\, Humus-Rete sociale per la Bioagricolturasociale italiana\, OltreConfine – Distretto di economia solidale. Con il supporto di CAES-Consorzio assicurativo etico e solidale. \nClicca qui per accedere al form d’iscrizione all’evento
URL:https://rete-ries.it/evento/politiche-del-cibo-certificazione-partecipata-e-comunitaria/
LOCATION:Preganziol (TV)
ATTACH;FMTTYPE=image/jpeg:https://rete-ries.it/wp-content/uploads/2022/06/SPGS_mod.jpg
END:VEVENT
END:VCALENDAR