BEGIN:VCALENDAR
VERSION:2.0
PRODID:-//RIES - Rete Italiana Economia Solidale - ECPv6.15.20//NONSGML v1.0//EN
CALSCALE:GREGORIAN
METHOD:PUBLISH
X-WR-CALNAME:RIES - Rete Italiana Economia Solidale
X-ORIGINAL-URL:https://rete-ries.it
X-WR-CALDESC:Eventi per RIES - Rete Italiana Economia Solidale
REFRESH-INTERVAL;VALUE=DURATION:PT1H
X-Robots-Tag:noindex
X-PUBLISHED-TTL:PT1H
BEGIN:VTIMEZONE
TZID:Europe/Rome
BEGIN:DAYLIGHT
TZOFFSETFROM:+0100
TZOFFSETTO:+0200
TZNAME:CEST
DTSTART:20210328T010000
END:DAYLIGHT
BEGIN:STANDARD
TZOFFSETFROM:+0200
TZOFFSETTO:+0100
TZNAME:CET
DTSTART:20211031T010000
END:STANDARD
BEGIN:DAYLIGHT
TZOFFSETFROM:+0100
TZOFFSETTO:+0200
TZNAME:CEST
DTSTART:20220327T010000
END:DAYLIGHT
BEGIN:STANDARD
TZOFFSETFROM:+0200
TZOFFSETTO:+0100
TZNAME:CET
DTSTART:20221030T010000
END:STANDARD
BEGIN:DAYLIGHT
TZOFFSETFROM:+0100
TZOFFSETTO:+0200
TZNAME:CEST
DTSTART:20230326T010000
END:DAYLIGHT
BEGIN:STANDARD
TZOFFSETFROM:+0200
TZOFFSETTO:+0100
TZNAME:CET
DTSTART:20231029T010000
END:STANDARD
BEGIN:DAYLIGHT
TZOFFSETFROM:+0100
TZOFFSETTO:+0200
TZNAME:CEST
DTSTART:20240331T010000
END:DAYLIGHT
BEGIN:STANDARD
TZOFFSETFROM:+0200
TZOFFSETTO:+0100
TZNAME:CET
DTSTART:20241027T010000
END:STANDARD
END:VTIMEZONE
BEGIN:VEVENT
DTSTART;VALUE=DATE:20221231
DTEND;VALUE=DATE:20230115
DTSTAMP:20260424T013914
CREATED:20221104T204817Z
LAST-MODIFIED:20221220T180754Z
UID:10000089-1672444800-1673740799@rete-ries.it
SUMMARY:Viaggio responsabile in Senegal
DESCRIPTION:dal 31 dicembre > al 14 gennaio\nVIAGGIA & SCEGLI COME STARE NEL MONDO\nViaggiare nel profondamente altro\, è un potentissimo strumento di consapevolezza e formazione: un viaggio\niniziatico e gioioso per scoprire che il Sud del mondo ha molto da insegnarci e da condividere!Informazioni:\n> compilate il form al link\nhttps://bit.ly/viaggio-senegal\n> telefonare/inviare sms whatsapp/telegram\na 3928497549 \n> richiedi a 3928497549 la scheda prezzo trasparente
URL:https://rete-ries.it/evento/viaggio-responsabile-in-senegal/
CATEGORIES:Events
ATTACH;FMTTYPE=image/jpeg:https://rete-ries.it/wp-content/uploads/2022/11/Turismo-senegal-e1671558636476.jpeg
END:VEVENT
BEGIN:VEVENT
DTSTART;TZID=Europe/Rome:20230112T210000
DTEND;TZID=Europe/Rome:20230112T220000
DTSTAMP:20260424T013914
CREATED:20230110T090756Z
LAST-MODIFIED:20230110T090756Z
UID:10000148-1673557200-1673560800@rete-ries.it
SUMMARY:Giovedì 12 gennaio il webinar "ADESSO LUCE! Dai prezzi impazziti all'energia eco-solidale in 5 step"
DESCRIPTION:Si terrà giovedì 12 gennaio alle ore 21:00 il webinar “ADESSO LUCE! Dai prezzi impazziti all’energia eco-solidale in 5”\, organizzato da DESBri in collaborazione con CO-energia. \nCon Maria Telma Fiore e Maurizio Molteni si parlerà di energia e di caro bollette\, alla ricerca di una soluzione solidale\, equa e sostenibile per l’ambiente. \nLa partecipazione è gratuita\, occorre iscriversi a questo link.\nPer informazioni potete scrivere alla segreteria all’indirizzo segreteria@desbri.org.
URL:https://rete-ries.it/evento/giovedi-12-gennaio-il-webinar-adesso-luce-dai-prezzi-impazziti-allenergia-eco-solidale-in-5-step/
LOCATION:Online
CATEGORIES:Events
ATTACH;FMTTYPE=image/png:https://rete-ries.it/wp-content/uploads/2023/01/Banner-RIES-WP-1280-×-640.png
END:VEVENT
END:VCALENDAR