BEGIN:VCALENDAR
VERSION:2.0
PRODID:-//RIES - Rete Italiana Economia Solidale - ECPv6.15.20//NONSGML v1.0//EN
CALSCALE:GREGORIAN
METHOD:PUBLISH
X-WR-CALNAME:RIES - Rete Italiana Economia Solidale
X-ORIGINAL-URL:https://rete-ries.it
X-WR-CALDESC:Eventi per RIES - Rete Italiana Economia Solidale
REFRESH-INTERVAL;VALUE=DURATION:PT1H
X-Robots-Tag:noindex
X-PUBLISHED-TTL:PT1H
BEGIN:VTIMEZONE
TZID:Europe/Rome
BEGIN:DAYLIGHT
TZOFFSETFROM:+0100
TZOFFSETTO:+0200
TZNAME:CEST
DTSTART:20220327T010000
END:DAYLIGHT
BEGIN:STANDARD
TZOFFSETFROM:+0200
TZOFFSETTO:+0100
TZNAME:CET
DTSTART:20221030T010000
END:STANDARD
BEGIN:DAYLIGHT
TZOFFSETFROM:+0100
TZOFFSETTO:+0200
TZNAME:CEST
DTSTART:20230326T010000
END:DAYLIGHT
BEGIN:STANDARD
TZOFFSETFROM:+0200
TZOFFSETTO:+0100
TZNAME:CET
DTSTART:20231029T010000
END:STANDARD
BEGIN:DAYLIGHT
TZOFFSETFROM:+0100
TZOFFSETTO:+0200
TZNAME:CEST
DTSTART:20240331T010000
END:DAYLIGHT
BEGIN:STANDARD
TZOFFSETFROM:+0200
TZOFFSETTO:+0100
TZNAME:CET
DTSTART:20241027T010000
END:STANDARD
END:VTIMEZONE
BEGIN:VEVENT
DTSTART;TZID=Europe/Rome:20230116T173000
DTEND;TZID=Europe/Rome:20230116T183000
DTSTAMP:20260424T013917
CREATED:20230116T121525Z
LAST-MODIFIED:20230116T121526Z
UID:10000149-1673890200-1673893800@rete-ries.it
SUMMARY:NOINET - internet cooperativo
DESCRIPTION:Incontro con Marco Polverari\, presidente di Noinet\n\nNoinet è una cooperativa basata a Cerveteri (Roma)\, provider di connessione a internet e telefonia\, per la quale “Internet è un bene comune e come tale deve essere a disposizione di tutti con una connessione di alta qualità a basso costo\, dappertutto. L’etica dei valori è il nostro modo di fare impresa.” \nOltre a sviluppare delle “nuvole locali” per una forma di comunità di internet (simile per certi versi alle comunità energetiche)\, incoraggia i clienti ad associarsi alla cooperativa: “Potrai essere Co-Proprietario della Rete\, decidendo insieme a tutti gli altri soci le modalità di gestione e la direzione presente e futura della Tua compagnia di Telecomunicazione. Sarai parte attiva nella creazione di un’Impresa etica\, che sviluppa il territorio\, il know how\, crea posti di lavoro e partecipa a progetti di interesse sociale. Avrai diritto a prodotti e servizi a prezzi ridotti rispetto a quelli applicati ai clienti.“ \nL’incontro dura un’ora (mezz’ora presentazione e mezz’ora dibattito). \nQui il link: https://meet.ripess.org/rie-u39-9mv
URL:https://rete-ries.it/evento/noinet-internet-cooperativo/
LOCATION:Online
CATEGORIES:Events
ATTACH;FMTTYPE=image/png:https://rete-ries.it/wp-content/uploads/2023/01/noinet_incontro.png
ORGANIZER;CN="RIES":MAILTO:info@rete-ries.it
END:VEVENT
BEGIN:VEVENT
DTSTART;TZID=Europe/Rome:20230117T204500
DTEND;TZID=Europe/Rome:20230117T220000
DTSTAMP:20260424T013917
CREATED:20230116T144522Z
LAST-MODIFIED:20230116T144522Z
UID:10000150-1673988300-1673992800@rete-ries.it
SUMMARY:Bilatalk sulla finanza etica
DESCRIPTION:Bilatalk\, strategie concrete di alternative praticate è un’idea del movimento Bilanci di Giustizia per incontrare interessanti realtà e approfondire temi tramite incontri online di dialogo con realtà ed esperti. \nNel prossimo s’incontrerà CreSud\, la società del Gruppo Banca Etica che offre risorse finanziarie e servizi di assistenza tecnica a chi\, nei Paesi del Sud del mondo\, non può accedere al circuito bancario tradizionale. Lo fa con un duplice obiettivo: consentire l’accesso al credito a persone svantaggiate\, escluse dai sistemi finanziari locali e facilitare la crescita dell’economia sostenibile per incoraggiare il risparmio etico e le scelte di investimento socialmente responsabili. CreSud è nata nel 1999 ed è cresciuta grazie a una rete di azionisti che comprende persone fisiche\, cooperative e associazioni che operano nei settori dello sviluppo sostenibile e del commercio equo e solidale. Ad oggi opera in America Latina\, Balcani\, Africa e Asia.\nNel bilatalk ci faremo raccontare cosa fanno e come partecipare ai loro progetti! \nDa non perdere! Aperto a tutti! \nIscrizioni: https://form.jotform.com/230045079861052 \nPer saperne di più @cresud https://www.cresud.it/
URL:https://rete-ries.it/evento/bilatalk-sulla-finanza-etica/
LOCATION:Online
ATTACH;FMTTYPE=image/jpeg:https://rete-ries.it/wp-content/uploads/2023/01/bilatalk.jpg
ORGANIZER;CN="Bilanci di Giustizia":MAILTO:segreteriabilanci@gmail.com
END:VEVENT
END:VCALENDAR