BEGIN:VCALENDAR
VERSION:2.0
PRODID:-//RIES - Rete Italiana Economia Solidale - ECPv6.15.20//NONSGML v1.0//EN
CALSCALE:GREGORIAN
METHOD:PUBLISH
X-ORIGINAL-URL:https://rete-ries.it
X-WR-CALDESC:Eventi per RIES - Rete Italiana Economia Solidale
REFRESH-INTERVAL;VALUE=DURATION:PT1H
X-Robots-Tag:noindex
X-PUBLISHED-TTL:PT1H
BEGIN:VTIMEZONE
TZID:Europe/Rome
BEGIN:DAYLIGHT
TZOFFSETFROM:+0100
TZOFFSETTO:+0200
TZNAME:CEST
DTSTART:20220327T010000
END:DAYLIGHT
BEGIN:STANDARD
TZOFFSETFROM:+0200
TZOFFSETTO:+0100
TZNAME:CET
DTSTART:20221030T010000
END:STANDARD
BEGIN:DAYLIGHT
TZOFFSETFROM:+0100
TZOFFSETTO:+0200
TZNAME:CEST
DTSTART:20230326T010000
END:DAYLIGHT
BEGIN:STANDARD
TZOFFSETFROM:+0200
TZOFFSETTO:+0100
TZNAME:CET
DTSTART:20231029T010000
END:STANDARD
BEGIN:DAYLIGHT
TZOFFSETFROM:+0100
TZOFFSETTO:+0200
TZNAME:CEST
DTSTART:20240331T010000
END:DAYLIGHT
BEGIN:STANDARD
TZOFFSETFROM:+0200
TZOFFSETTO:+0100
TZNAME:CET
DTSTART:20241027T010000
END:STANDARD
END:VTIMEZONE
BEGIN:VEVENT
DTSTART;TZID=Europe/Rome:20230323T173000
DTEND;TZID=Europe/Rome:20230328T200000
DTSTAMP:20260423T124620
CREATED:20230317T213224Z
LAST-MODIFIED:20230321T131624Z
UID:10000164-1679592600-1680033600@rete-ries.it
SUMMARY:Scuola di attivazione politica 2023 (nord): 5° incontro modulo Agroecologia
DESCRIPTION:Quinto incontro del Corso Agroecologia e filiere agroalimentari sul tema: \nNormative e regolamenti per l’agroecologia a livello Europeo \, nazionale e regionale \nUn panorama delle normative che vanno dalle strategie europee (Farm to Fork e Biodiversità) alla recente legge 21/21 dell’Assemblea Regionale Siciliana e al caso Emilia Romagna . \nInterveranno : \nAlessandra Corrado – ricercatrice in Sociologia dell’ambiente e del territorio nel … dell’Università della Calabria (Centro studi per lo sviluppo rurale). \nPier Francesco Pandolfi de Rinaldis – Associazione Ruale Italiana ARI/Comitato di Coordinamento Internazionale del La Via Campesina. \nGuido Bissanti – Agronomo\, Coordinamento Agroecologia Sicilia 2030 \nCarlo Farneti – Rete per la sovranità alimentare in Emilia Romagna \nPer partecipare agli incontri occorre iscriversi in anticipo attraverso questo link: (il link sarà sempre lo stesso per ogni incontro) \nDopo l’iscrizione\, riceverete le indicazioni con le informazioni (tra cui il link) per entrare nella riunione. Questo link sarà utilizzato per ogni incontro per cui salvatelo tra i vostri appunti . Questa procedura consente di registrare le presenze effettive (per chi ne avesse bisogno abbiamo previsto anche un attestato di partecipazione che sarà inviato ha chi partecipa al 80% dei moduli attivati). \nIl programma completo è consultabile qui.
URL:https://rete-ries.it/evento/scuola-di-attivazione-politica-2023-nord-5-incontro-modulo-agroecologia/
CATEGORIES:Events
ATTACH;FMTTYPE=image/jpeg:https://rete-ries.it/wp-content/uploads/2023/03/SAP_area_centro_2023.jpeg
END:VEVENT
BEGIN:VEVENT
DTSTART;TZID=Europe/Rome:20230328T173000
DTEND;TZID=Europe/Rome:20230328T200000
DTSTAMP:20260423T124620
CREATED:20230321T224319Z
LAST-MODIFIED:20230321T224319Z
UID:10000165-1680024600-1680033600@rete-ries.it
SUMMARY:Scuola di Attivazione Politica 2023 (CENTRO): 1° Incontro introduttorio
DESCRIPTION:Per una transizione ecologica\, equa solidale: Le Economie Trasformative verso nuovi paradigmi di sviluppo locale integrale \nIntroduce e modera l’incontro : \nRiccardo Troisi\, Fairwatch Italia\, ricercatore Università Cooperativa di Colombia. \nMonica Di Sisto\, Fairwatch \nJason Nardi\, RIES – Rete Italiana Economia Solidale(Ries) Ripees Europa at Ripees\, International Network for the Promotion of Social Solidarity Economy \nSono previsti interventi delle organizzazioni che hanno promosso il percorso formativo
URL:https://rete-ries.it/evento/scuola-di-attivazione-politica-2023-centro-1-incontro-introduttorio/
CATEGORIES:Events
ATTACH;FMTTYPE=image/jpeg:https://rete-ries.it/wp-content/uploads/2023/03/SAP_area_centro_2023.jpeg
END:VEVENT
BEGIN:VEVENT
DTSTART;VALUE=DATE:20230330
DTEND;VALUE=DATE:20230401
DTSTAMP:20260423T124620
CREATED:20230127T112526Z
LAST-MODIFIED:20230328T085727Z
UID:10000153-1680134400-1680307199@rete-ries.it
SUMMARY:3° Convegno nazionale di agroecologia
DESCRIPTION:Una due giorni intensissima (più una terza mattina di visita in azienda) con 7 tavole rotonde da non perdere. \nIl convegno si aprirà con un momento dedicato ai giovani\, con una Sessione 1 dal titolo Agroecologia verso il futuro\, lo stato dell’arte e le prospettive per il lavoro.\nI lavori proseguiranno con la Sessione 2 dove si metteranno in evidenza le imprescindibili relazioni tra l’Agroecologia e l‘agricoltura biologica e biodinamica che rappresentano oggi i modelli più avanzati e sostenibili per l’ambiente e la società\, per chiudere la prima giornata con una Sessione 3 dedicata al tema della salute\, in un’ottica di global health. \nLa seconda giornata si aprirà con la Sessione 4 in cui si affronteranno i temi complessi relativi alla riduzione degli input chimici di sintesi per la transizione agroecologica\, seguita dalla Sessione 5 con un momento di approfondimento sull’attualissimo tema del cambiamento climatico\, di cui saranno trattati i problemi e le prospettive. Nel pomeriggio nella Sessione 6 si parlerà di biodiversità e paesaggio\, per poi concludere con la Sessione 7 con un focus sui sistemi locali del cibo come laboratori di Agroecologia. \nIl convegno sarà anche online in diretta sulla pagina YouTube della Coalizione Cambiamo Agricoltura. \nQui il programma.
URL:https://rete-ries.it/evento/3-convegno-nazionale-di-agroecologia/
LOCATION:Sala Spazio Europa c/o Rappresentanza Commissione Europea e Parlamento Europeo\, via IV Novembre 149\, Roma\, Italia
CATEGORIES:Events
ATTACH;FMTTYPE=image/jpeg:https://rete-ries.it/wp-content/uploads/2023/01/Convegno-AGROECOLOGIA.jpg
END:VEVENT
BEGIN:VEVENT
DTSTART;TZID=Europe/Rome:20230330T090000
DTEND;TZID=Europe/Rome:20230330T133000
DTSTAMP:20260423T124620
CREATED:20230321T083402Z
LAST-MODIFIED:20230331T073831Z
UID:10000167-1680166800-1680183000@rete-ries.it
SUMMARY:Convegno "La svolta trasformativa" - Università per la pace
DESCRIPTION:Convegno “La svolta trasformativa: per una convergenza tra i movimenti di economia alternativa” promosso dalla Scuola per l’Economia Trasformativa dell’Università per la pace in collaborazione con il CRISS – Centro di Ricerca e Servizio sull’Educazione Socio-Sanitaria dell’Università Politecnica delle Marche. \nDiversi gli interventi previsti\, con l’obiettivo di diffondere\, soprattutto a favore degli studenti universitari di economia\, la conoscenza su alcune realtà dell’economia alternativa e contribuire al processo di convergenza per individuare gli elementi comuni in grado di delineare un nuovo sistema alternativo al capitalismo globale e alle sue logiche predatorie. \nL’incontro\, aperto a tutta la cittadinanza\, sarà trasmesso anche in diretta streaming sulla pagina FACEBOOK dell’Università per la pace  https://www.facebook.com/UnivPace
URL:https://rete-ries.it/evento/241694/
LOCATION:Università di Ancona e on line
ATTACH;FMTTYPE=image/jpeg:https://rete-ries.it/wp-content/uploads/2023/03/Convegno-La-svolta-trasformativa.jpg
END:VEVENT
BEGIN:VEVENT
DTSTART;TZID=Europe/Rome:20230330T210000
DTEND;TZID=Europe/Rome:20230330T223000
DTSTAMP:20260423T124620
CREATED:20230329T204028Z
LAST-MODIFIED:20230329T204208Z
UID:10000166-1680210000-1680215400@rete-ries.it
SUMMARY:Presentazione del nuovo progetto Le Solidali - bio patate co-prodotte
DESCRIPTION:Il gruppo di lavoro Bi-sogni di CO-energia dopo la campagna della Sporta solidale\, ora è approdato a un nuovo capitolo di ricerca e sperimentazione: “Le solidali – biopatate co-prodotte“. \nIl punto di partenza questa volta è Cascina Bertoldosso di Riccardo Sudati che produce le biopatate “Le Solidali”. Come per le sporte\, CO-energia supporta le relazioni con GAS e Reti territoriali. I GAS sono chiamati a diventare co-produttori:\n– anticipando i costi fissi (30 cent/kg)\n– assumendosi il rischio d’impresa\n– controllando in corso d’opera i costi in modo trasparente\n– costruendo con l’agricoltore il ‘prezzo giusto’. \nPerché solidali?\nLa sperimentazione: \n\nsostiene il progetto territoriale associato al patto Adesso grana\, cioè il consolidamento della filiera bio locale formata da: Biocaseificio Tomasoni\, Forneria Faol\, Cascina Bertoldosso\, i 2 fornitori di latte bio al caseificio Az agr. biologica Olini Luciano e Azienda agr. biologica Boffelli Andrea\nè parte di un percorso più generale\, avviato nel 2015\, che cerca di conquistare alle coltivazioni biologiche terreni di un’area\, la Bassa bresciana\, dove prevale in assoluto l’agricoltura convenzionale\nè un percorso di agricoltura sociale\, esperienza anche questa rara nella Bassa bresciana\, che cioè da’ lavoro e restituisce dignità a soggetti fragili\nrafforza le Reti di GAS nate con La sporta solidale e ne favorisce l’avvio di nuove\n\nIscriviti all’incontro online di presentazione del progetto: https://tinyurl.com/COE-Biopatate-co-prodotte
URL:https://rete-ries.it/evento/presentazione-del-nuovo-progetto-le-solidali-bio-patate-co-prodotte/
LOCATION:on line
ATTACH;FMTTYPE=image/png:https://rete-ries.it/wp-content/uploads/2023/03/patata_solidale.png
END:VEVENT
END:VCALENDAR