BEGIN:VCALENDAR
VERSION:2.0
PRODID:-//RIES - Rete Italiana Economia Solidale - ECPv6.15.20//NONSGML v1.0//EN
CALSCALE:GREGORIAN
METHOD:PUBLISH
X-ORIGINAL-URL:https://rete-ries.it
X-WR-CALDESC:Eventi per RIES - Rete Italiana Economia Solidale
REFRESH-INTERVAL;VALUE=DURATION:PT1H
X-Robots-Tag:noindex
X-PUBLISHED-TTL:PT1H
BEGIN:VTIMEZONE
TZID:Europe/Rome
BEGIN:DAYLIGHT
TZOFFSETFROM:+0100
TZOFFSETTO:+0200
TZNAME:CEST
DTSTART:20220327T010000
END:DAYLIGHT
BEGIN:STANDARD
TZOFFSETFROM:+0200
TZOFFSETTO:+0100
TZNAME:CET
DTSTART:20221030T010000
END:STANDARD
BEGIN:DAYLIGHT
TZOFFSETFROM:+0100
TZOFFSETTO:+0200
TZNAME:CEST
DTSTART:20230326T010000
END:DAYLIGHT
BEGIN:STANDARD
TZOFFSETFROM:+0200
TZOFFSETTO:+0100
TZNAME:CET
DTSTART:20231029T010000
END:STANDARD
BEGIN:DAYLIGHT
TZOFFSETFROM:+0100
TZOFFSETTO:+0200
TZNAME:CEST
DTSTART:20240331T010000
END:DAYLIGHT
BEGIN:STANDARD
TZOFFSETFROM:+0200
TZOFFSETTO:+0100
TZNAME:CET
DTSTART:20241027T010000
END:STANDARD
END:VTIMEZONE
BEGIN:VEVENT
DTSTART;VALUE=DATE:20230520
DTEND;VALUE=DATE:20230523
DTSTAMP:20260423T123912
CREATED:20230506T133955Z
LAST-MODIFIED:20230506T134103Z
UID:10000181-1684540800-1684799999@rete-ries.it
SUMMARY:72 ore di Biodiversità
DESCRIPTION:Tre giorni dedicati alla Biodiversità – dal campo alla tavola.  2a edizione dell’evento organizzato dalla Rete dei Semi Rurali\, in collaborazione con varie altre realtà\, tra cui Rete Humus. \nIncontri\, laboratori\, mercato\, concerti\, pasti sociali.  Qui il programma sul sito\, dove ci si può registrare per partecipare ai vari eventi e trovare tutte le informazioni. \nDomenica 21 maggio\, al suo interno\, si svolgerà il Forum territoriale per l’Economia Solidale in Toscana (Altreconomie al Centro). \n 
URL:https://rete-ries.it/evento/72-ore-di-biodiversita/
LOCATION:Castello dell’Acciaiuolo\, Via Pantin\, 63\, Scandicci\, Firenze\, Italy
CATEGORIES:Events
ATTACH;FMTTYPE=image/png:https://rete-ries.it/wp-content/uploads/2023/05/72orebiodiversita.png
ORGANIZER;CN="Rete Semi Rurali":MAILTO:biblioteca@semirurali.net
END:VEVENT
BEGIN:VEVENT
DTSTART;VALUE=DATE:20230521
DTEND;VALUE=DATE:20230522
DTSTAMP:20260423T123912
CREATED:20230414T184651Z
LAST-MODIFIED:20230516T200820Z
UID:10000176-1684627200-1684713599@rete-ries.it
SUMMARY:Altreconomie al Centro: quali cantieri comuni?
DESCRIPTION:Forum territoriale dell’Economia Solidale – Toscana \nChiamata alla raccolta di tutte le realtà che mettono in pratica un’altra economia – trasformativa\, solidale e resistente – in Toscana (e dintorni)! Sarà una giornata di lavoro e di convivialità per rinsaldare progetti e collaborazioni e coltivare nuove relazioni. \nNell’ambito della rassegna 72ore di Biodiversità\, organizzata dalla Rete Semi Rurali si svolgerà l’incontro FORUM TERRITORIALE DELL’ECONOMIA SOLIDALE\, promosso da RIES. \nDalle politiche locali per il cibo a tutte le forme di co-produzione e distribuzione collettiva (GAS\, mercati contadini\, empori solidali\, botteghe del commercio equo\, piccola distribuzione organizzata\, CSA…) alle comunità energetiche rinnovabili solidali che si stanno formando\, dal commercio equo alle forme di mutualismo e finanza solidale sul territorio e al turismo responsabile\, fino alle fattorie e fabbriche autogestite e integrate nel territorio: quali cantieri comuni e sinergie possibili? \nPer il programma\, vedi qui. \nInfo e iscrizioni (libere): info@rete-ries.it
URL:https://rete-ries.it/evento/altreconomie-al-centro-quali-cantieri-comuni/
LOCATION:Castello dell’Acciaiuolo\, Via Pantin\, 63\, Scandicci\, Firenze\, Italy
CATEGORIES:Events
ATTACH;FMTTYPE=image/png:https://rete-ries.it/wp-content/uploads/2023/04/FT_Firenze_210523.png
ORGANIZER;CN="RIES":MAILTO:info@rete-ries.it
END:VEVENT
END:VCALENDAR