BEGIN:VCALENDAR
VERSION:2.0
PRODID:-//RIES - Rete Italiana Economia Solidale - ECPv6.15.20//NONSGML v1.0//EN
CALSCALE:GREGORIAN
METHOD:PUBLISH
X-WR-CALNAME:RIES - Rete Italiana Economia Solidale
X-ORIGINAL-URL:https://rete-ries.it
X-WR-CALDESC:Eventi per RIES - Rete Italiana Economia Solidale
REFRESH-INTERVAL;VALUE=DURATION:PT1H
X-Robots-Tag:noindex
X-PUBLISHED-TTL:PT1H
BEGIN:VTIMEZONE
TZID:Europe/Rome
BEGIN:DAYLIGHT
TZOFFSETFROM:+0100
TZOFFSETTO:+0200
TZNAME:CEST
DTSTART:20220327T010000
END:DAYLIGHT
BEGIN:STANDARD
TZOFFSETFROM:+0200
TZOFFSETTO:+0100
TZNAME:CET
DTSTART:20221030T010000
END:STANDARD
BEGIN:DAYLIGHT
TZOFFSETFROM:+0100
TZOFFSETTO:+0200
TZNAME:CEST
DTSTART:20230326T010000
END:DAYLIGHT
BEGIN:STANDARD
TZOFFSETFROM:+0200
TZOFFSETTO:+0100
TZNAME:CET
DTSTART:20231029T010000
END:STANDARD
BEGIN:DAYLIGHT
TZOFFSETFROM:+0100
TZOFFSETTO:+0200
TZNAME:CEST
DTSTART:20240331T010000
END:DAYLIGHT
BEGIN:STANDARD
TZOFFSETFROM:+0200
TZOFFSETTO:+0100
TZNAME:CET
DTSTART:20241027T010000
END:STANDARD
END:VTIMEZONE
BEGIN:VEVENT
DTSTART;TZID=Europe/Rome:20230914T080000
DTEND;TZID=Europe/Rome:20230916T170000
DTSTAMP:20260423T112144
CREATED:20230809T125951Z
LAST-MODIFIED:20230917T091954Z
UID:10000187-1694678400-1694883600@rete-ries.it
SUMMARY:Dal 14 al 16 settembre a Rieti - Luoghi che parlano -Formazione gratuita per animatori ed animatrici di comunità trasformative
DESCRIPTION:Invito  per partecipare alla prima sessione formativa residenziale (area centro) prevista nel percorso della scuola di attivazione politica  delle economie trasformative . \nDal 14 al 16 settembre a Rieti – Luoghi che parlano -Formazione gratuita per animatori ed animatrici di comunità trasformative \nQui tutte le info con il programma e le modalità per partecipare https://www.arcsculturesolidali.org/reti-solidali-e-competenti \nevento Fb https://fb.me/e/3qALC9D6p \nPer l’area nord le giornate saranno 5-7 ottobre  a Milano \nPer l’area sud le giornate saranno 7-9 dicembre a Napoli \n 
URL:https://rete-ries.it/evento/dal-14-al-16-settembre-a-rieti-luoghi-che-parlano-formazione-gratuita-per-animatori-ed-animatrici-di-comunita-trasformative/
CATEGORIES:Events
ATTACH;FMTTYPE=image/jpeg:https://rete-ries.it/wp-content/uploads/2023/08/Immagine-WhatsApp-2023-07-26-ore-14.25.53.jpg
END:VEVENT
END:VCALENDAR