BEGIN:VCALENDAR
VERSION:2.0
PRODID:-//RIES - Rete Italiana Economia Solidale - ECPv6.15.20//NONSGML v1.0//EN
CALSCALE:GREGORIAN
METHOD:PUBLISH
X-ORIGINAL-URL:https://rete-ries.it
X-WR-CALDESC:Eventi per RIES - Rete Italiana Economia Solidale
REFRESH-INTERVAL;VALUE=DURATION:PT1H
X-Robots-Tag:noindex
X-PUBLISHED-TTL:PT1H
BEGIN:VTIMEZONE
TZID:Europe/Rome
BEGIN:DAYLIGHT
TZOFFSETFROM:+0100
TZOFFSETTO:+0200
TZNAME:CEST
DTSTART:20220327T010000
END:DAYLIGHT
BEGIN:STANDARD
TZOFFSETFROM:+0200
TZOFFSETTO:+0100
TZNAME:CET
DTSTART:20221030T010000
END:STANDARD
BEGIN:DAYLIGHT
TZOFFSETFROM:+0100
TZOFFSETTO:+0200
TZNAME:CEST
DTSTART:20230326T010000
END:DAYLIGHT
BEGIN:STANDARD
TZOFFSETFROM:+0200
TZOFFSETTO:+0100
TZNAME:CET
DTSTART:20231029T010000
END:STANDARD
BEGIN:DAYLIGHT
TZOFFSETFROM:+0100
TZOFFSETTO:+0200
TZNAME:CEST
DTSTART:20240331T010000
END:DAYLIGHT
BEGIN:STANDARD
TZOFFSETFROM:+0200
TZOFFSETTO:+0100
TZNAME:CET
DTSTART:20241027T010000
END:STANDARD
END:VTIMEZONE
BEGIN:VEVENT
DTSTART;VALUE=DATE:20230922
DTEND;VALUE=DATE:20230925
DTSTAMP:20260423T071931
CREATED:20230917T104850Z
LAST-MODIFIED:20230917T104850Z
UID:10000189-1695340800-1695599999@rete-ries.it
SUMMARY:Tuttaunaltracosa! XXIX edizione - Padova
DESCRIPTION:Il 22\, 23 e 24 settembre torna il Festival organizzato dall’Associazione Botteghe del Mondo\, la rete nazionale di oltre 60 soci tra botteghe del mondo e importatori\, attiva dal 1991 che promuove il commercio equo su tutto il territorio\, favorisce la nascita di nuove realtà imprenditoriali e svolge attività di formazione sullo sviluppo sostenibile\, in collaborazione con le Università e le scuole\, socia del Wfto (World Fair Trade Organization). \n40.000 visitatori in media nei tre giorni\, 50 espositori provenienti da tutta Italia\, con le ultime novità dal mondo equosolidale\, dell’economia sociale e solidale\, dall’agricoltura biologica\, del riuso e riciclo\, viaggi sostenibili\, finanza etica\, nuovi progetti di economia circolare e innovazione sociale. \nIl Festival offre gratuitamente ai visitatori della città mostre\, convegni\, animazioni per bimbi e laboratori e un intenso programma culturale di 3 giorni. \nDal 2007 il Festival Nazionale del Commercio Equo e Solidale gode dell’Alto Patronato del Presidente della Repubblica. \nDalla prima edizione\, nel 1994\, Tuttaunaltracosa ha toccato le principali città italiane (Milano\, Genova\, Modena\, Ferrara\, Lecce\, Napoli\, Reggio Emilia….). \nL’edizione 2023 si svolgerà\, per la quarta volta\, nella splendida città di Padova\, dove tornerà grazie all’impegno dell’amministrazione. \nIn questa edizione sono molte le novità e le sinergie con i partner e gli attori locali\, oltre al rafforzamento delle relazioni già consolidate nelle scorse edizioni con Fairtrade Italia e Aeres Venezia\, la bottega del mondo Angoli di Mondo\, Banca Etica\, l’associazione Aiab Veneto onlus\, avremo anche il CSV che realizzerà l’evento Solidaria in concomitanza con Tuttaunaltracosa\, così come avverrà con El Biologico in Piassa che si terrà la settimana successiva. \nL’ingresso è libero a tutta la manifestazione\nFacebook: Tuttaunaltracosa • Instagram: Assobotteghe\n\n\nLeggi il programma!\nScarica il programma in formato PDF
URL:https://rete-ries.it/evento/tuttaunaltracosa-xxix-edizione-padova/
LOCATION:Tuttaunaltracosa! Padova\, piazza Capitaniato\, Padova\, Italy
CATEGORIES:Events
ATTACH;FMTTYPE=image/jpeg:https://rete-ries.it/wp-content/uploads/2023/09/2023_TUAC_SaveTheDate.jpg
END:VEVENT
BEGIN:VEVENT
DTSTART;VALUE=DATE:20230923
DTEND;VALUE=DATE:20230925
DTSTAMP:20260423T071931
CREATED:20230917T111351Z
LAST-MODIFIED:20231005T103456Z
UID:10000190-1695427200-1695599999@rete-ries.it
SUMMARY:Agorà 2023 – Mondo Comunità e famiglia
DESCRIPTION:Il 23 / 24 settembre si terrà a Villapizzone e in Cascina Pagnana \nAGORA’ GenerAzioni MCF\nResponsabilità\, Consapevolezza e Creatività \nper attivare processi generativi oggi \nEcco il programma di questi due giorni generativi: \n \n\nPer info e iscrizioni: https://comunitaefamiglia.org/agora2023/ \n 
URL:https://rete-ries.it/evento/agora-2023-mondo-comunita-e-famiglia/
LOCATION:Villapizzone\, piazza Villapizzone\, 3\, Milano\, Italy
CATEGORIES:Events
ATTACH;FMTTYPE=image/png:https://rete-ries.it/wp-content/uploads/2023/09/1-930x620-1.png
END:VEVENT
END:VCALENDAR