BEGIN:VCALENDAR
VERSION:2.0
PRODID:-//RIES - Rete Italiana Economia Solidale - ECPv6.15.20//NONSGML v1.0//EN
CALSCALE:GREGORIAN
METHOD:PUBLISH
X-ORIGINAL-URL:https://rete-ries.it
X-WR-CALDESC:Eventi per RIES - Rete Italiana Economia Solidale
REFRESH-INTERVAL;VALUE=DURATION:PT1H
X-Robots-Tag:noindex
X-PUBLISHED-TTL:PT1H
BEGIN:VTIMEZONE
TZID:Europe/Rome
BEGIN:DAYLIGHT
TZOFFSETFROM:+0100
TZOFFSETTO:+0200
TZNAME:CEST
DTSTART:20220327T010000
END:DAYLIGHT
BEGIN:STANDARD
TZOFFSETFROM:+0200
TZOFFSETTO:+0100
TZNAME:CET
DTSTART:20221030T010000
END:STANDARD
BEGIN:DAYLIGHT
TZOFFSETFROM:+0100
TZOFFSETTO:+0200
TZNAME:CEST
DTSTART:20230326T010000
END:DAYLIGHT
BEGIN:STANDARD
TZOFFSETFROM:+0200
TZOFFSETTO:+0100
TZNAME:CET
DTSTART:20231029T010000
END:STANDARD
BEGIN:DAYLIGHT
TZOFFSETFROM:+0100
TZOFFSETTO:+0200
TZNAME:CEST
DTSTART:20240331T010000
END:DAYLIGHT
BEGIN:STANDARD
TZOFFSETFROM:+0200
TZOFFSETTO:+0100
TZNAME:CET
DTSTART:20241027T010000
END:STANDARD
END:VTIMEZONE
BEGIN:VEVENT
DTSTART;TZID=Europe/Rome:20231122T180000
DTEND;TZID=Europe/Rome:20231122T200000
DTSTAMP:20260423T083825
CREATED:20231107T221523Z
LAST-MODIFIED:20231107T221742Z
UID:10000205-1700676000-1700683200@rete-ries.it
SUMMARY:Percorso "Effetto GAS"
DESCRIPTION:Nel prossimo incontro online di Effetto GAS che si terrà il 22 novembre\, parteciperà anche Ries e verrà presentata la Rete. \nPer partecipare al percorso scrivere a info@desparma.org con oggetto: Gas_30 anni \nPer i Gas: rispondere alle dieci domande a questo link: https://framaforms.org/effetto-gas-1694434646 \nLeggi l’articolo
URL:https://rete-ries.it/evento/percorso-effetto-gas/
LOCATION:Online
CATEGORIES:Events
ATTACH;FMTTYPE=image/jpeg:https://rete-ries.it/wp-content/uploads/2023/11/EffettoGas_800.jpg
END:VEVENT
BEGIN:VEVENT
DTSTART;TZID=Europe/Rome:20231124T163000
DTEND;TZID=Europe/Rome:20231124T183000
DTSTAMP:20260423T083825
CREATED:20231005T201457Z
LAST-MODIFIED:20231005T201457Z
UID:10000199-1700843400-1700850600@rete-ries.it
SUMMARY:CERCARE LAVORO OGGI…COME?
DESCRIPTION:Incontro proposto dall’Ufficio Studi MAG \nCuratrice Simonetta Patanè\, sociologa e counselor   \nAl  termine dell’incontro è previsto un aperitivo condiviso \nSi prega di confermare la presenza all’iniziativa scrivendo a info@magverona.it  o telefonando a 045-8100279\n(Rif. Giulia Pravato)
URL:https://rete-ries.it/evento/cercare-lavoro-oggicome/
LOCATION:CASA COMUNE MAG\, Via Cristofoli 31/A\, Verona\, Italy\, 37138
CATEGORIES:Events
ATTACH;FMTTYPE=image/png:https://rete-ries.it/wp-content/uploads/2022/07/MAG-VERONA.png
END:VEVENT
END:VCALENDAR