BEGIN:VCALENDAR
VERSION:2.0
PRODID:-//RIES - Rete Italiana Economia Solidale - ECPv6.15.20//NONSGML v1.0//EN
CALSCALE:GREGORIAN
METHOD:PUBLISH
X-ORIGINAL-URL:https://rete-ries.it
X-WR-CALDESC:Eventi per RIES - Rete Italiana Economia Solidale
REFRESH-INTERVAL;VALUE=DURATION:PT1H
X-Robots-Tag:noindex
X-PUBLISHED-TTL:PT1H
BEGIN:VTIMEZONE
TZID:Europe/Rome
BEGIN:DAYLIGHT
TZOFFSETFROM:+0100
TZOFFSETTO:+0200
TZNAME:CEST
DTSTART:20220327T010000
END:DAYLIGHT
BEGIN:STANDARD
TZOFFSETFROM:+0200
TZOFFSETTO:+0100
TZNAME:CET
DTSTART:20221030T010000
END:STANDARD
BEGIN:DAYLIGHT
TZOFFSETFROM:+0100
TZOFFSETTO:+0200
TZNAME:CEST
DTSTART:20230326T010000
END:DAYLIGHT
BEGIN:STANDARD
TZOFFSETFROM:+0200
TZOFFSETTO:+0100
TZNAME:CET
DTSTART:20231029T010000
END:STANDARD
BEGIN:DAYLIGHT
TZOFFSETFROM:+0100
TZOFFSETTO:+0200
TZNAME:CEST
DTSTART:20240331T010000
END:DAYLIGHT
BEGIN:STANDARD
TZOFFSETFROM:+0200
TZOFFSETTO:+0100
TZNAME:CET
DTSTART:20241027T010000
END:STANDARD
END:VTIMEZONE
BEGIN:VEVENT
DTSTART;TZID=Europe/Rome:20231129T180000
DTEND;TZID=Europe/Rome:20231129T200000
DTSTAMP:20260423T100347
CREATED:20231105T084709Z
LAST-MODIFIED:20231128T160249Z
UID:10000203-1701280800-1701288000@rete-ries.it
SUMMARY:Presentazione del libro "Comunicazione Solidale"
DESCRIPTION:La Rete italiana per l’economia solidale (RIES) presenta “Comunicazione Solidale” un libro sulla comunicazione dei Gruppi gruppi d’acquisto solidale e del consumo critico scritto da Marco Binotto\, professore associato alla  Sapienza Università di Roma e attivista dei GAS.   \nAll’occasione di confronto sulla lunga storia dei GAS e le prospettive della comunicazione e dei media per l’economia solidale e le esperienze di produzione e consumo responsabile parteciparanno Francesca Forno (Professoressa associata all’università di Trento)\, Jason Nardi (Presidente di Ries)\, Andrea Saroldi (Presidente di GAS Torino\, gestore di retegas.org e\, ora\, di economiasolidale.net)\, Andrea Degl’innocenti (fondatore di Italia che cambia)\, Riccardo Troisi (ricercatore ed attivista\, fondatore e redattore di Comune-info)..  \n>>Clicca qui per iscriverti e ricevere il link per collegarti all’evento online<<  \n\n    
URL:https://rete-ries.it/evento/presentazione-libro-comunicazione-solidale/
LOCATION:Online
CATEGORIES:Events
ATTACH;FMTTYPE=image/jpeg:https://rete-ries.it/wp-content/uploads/2023/11/presentazione-29-dicembre-23-nov.jpg
ORGANIZER;CN="RIES":MAILTO:info@rete-ries.it
END:VEVENT
BEGIN:VEVENT
DTSTART;TZID=Europe/Rome:20231202T140000
DTEND;TZID=Europe/Rome:20231202T170000
DTSTAMP:20260423T100347
CREATED:20231202T152428Z
LAST-MODIFIED:20231202T152428Z
UID:10000207-1701525600-1701536400@rete-ries.it
SUMMARY:Tavola rotonda Commercio e agroecologia attori del co-sviluppo
DESCRIPTION:Le Botteghe del mondo invitano a:\nFair Food: workshop su commercio equo\, Food Policy e agroecologia
URL:https://rete-ries.it/evento/tavola-rotonda-commercio-e-agroecologia-attori-del-co-sviluppo/
LOCATION:Fabbrica del vapore\, via Procaccini\, 4\, Milano\, Italy
CATEGORIES:Events
ATTACH;FMTTYPE=image/jpeg:https://rete-ries.it/wp-content/uploads/2023/12/Fair-Food.jpg
END:VEVENT
END:VCALENDAR