BEGIN:VCALENDAR
VERSION:2.0
PRODID:-//RIES - Rete Italiana Economia Solidale - ECPv6.15.20//NONSGML v1.0//EN
CALSCALE:GREGORIAN
METHOD:PUBLISH
X-WR-CALNAME:RIES - Rete Italiana Economia Solidale
X-ORIGINAL-URL:https://rete-ries.it
X-WR-CALDESC:Eventi per RIES - Rete Italiana Economia Solidale
REFRESH-INTERVAL;VALUE=DURATION:PT1H
X-Robots-Tag:noindex
X-PUBLISHED-TTL:PT1H
BEGIN:VTIMEZONE
TZID:Europe/Rome
BEGIN:DAYLIGHT
TZOFFSETFROM:+0100
TZOFFSETTO:+0200
TZNAME:CEST
DTSTART:20240331T010000
END:DAYLIGHT
BEGIN:STANDARD
TZOFFSETFROM:+0200
TZOFFSETTO:+0100
TZNAME:CET
DTSTART:20241027T010000
END:STANDARD
BEGIN:DAYLIGHT
TZOFFSETFROM:+0100
TZOFFSETTO:+0200
TZNAME:CEST
DTSTART:20250330T010000
END:DAYLIGHT
BEGIN:STANDARD
TZOFFSETFROM:+0200
TZOFFSETTO:+0100
TZNAME:CET
DTSTART:20251026T010000
END:STANDARD
BEGIN:DAYLIGHT
TZOFFSETFROM:+0100
TZOFFSETTO:+0200
TZNAME:CEST
DTSTART:20260329T010000
END:DAYLIGHT
BEGIN:STANDARD
TZOFFSETFROM:+0200
TZOFFSETTO:+0100
TZNAME:CET
DTSTART:20261025T010000
END:STANDARD
END:VTIMEZONE
BEGIN:VEVENT
DTSTART;TZID=Europe/Rome:20250408T210000
DTEND;TZID=Europe/Rome:20250408T230000
DTSTAMP:20260422T032836
CREATED:20250312T121102Z
LAST-MODIFIED:20250407T071909Z
UID:10000322-1744146000-1744153200@rete-ries.it
SUMMARY:Effetto GAS: Dialogo con le istituzioni
DESCRIPTION:Il sesto appuntamento online del percorso “Effetto GAS 2025” è dedicato al dialogo con le Istituzioni \nDurante l’incontro\, alcuni testimoni presenteranno le loro esperienze.\nDopo queste presentazioni\, l’incontro prevede una parte di condivisione tra i partecipanti in piccoli gruppi: sia online (in stanze virtuali create per l’occasione)\, sia in presenza (per chi si trova a seguire l’incontro insieme ad altri nello stesso luogo); si termina con una condivisione di quanto emerso dai gruppi.\nL’incontro è curato da Fulvia Cavalieri (Gas Fidenza-Salso). \nPer partecipare all’incontro è necessario iscriversi a questo link:\nhttps://www.co-energia.org/effettogas2025\n(in fase di iscrizione selezionare la data dell’incontro a cui si intende partecipare; è consigliato iscriversi da PC\, in alcuni casi da cellulare non funziona). \nClicca qui per approfondire \nCliccare qui per trovare il programma completo e tutte le informazioni e registrazioni dei vari appuntamenti del percorso “Effetto GAS 2025”
URL:https://rete-ries.it/evento/effetto-gas-dialogo-con-le-istituzioni/
LOCATION:Online
CATEGORIES:Events
ATTACH;FMTTYPE=image/png:https://rete-ries.it/wp-content/uploads/2025/01/Solidalia_240525_162409_EFG_evento_800_0.png
END:VEVENT
BEGIN:VEVENT
DTSTART;TZID=Europe/Rome:20250409T174500
DTEND;TZID=Europe/Rome:20250409T193000
DTSTAMP:20260422T032836
CREATED:20250312T114908Z
LAST-MODIFIED:20250312T115459Z
UID:10000318-1744220700-1744227000@rete-ries.it
SUMMARY:Laboratorio "COHOUSING al femminile"
DESCRIPTION:MAG Verona organizza un laboratorio rivolto a donne giovani\, adulte e anziane interessate ad approfondire il TEMA DELL’ABITARE INSIEME (Cohousing al Femminile). \nDurante gli incontri si raccolgono idee e bisogni per formulare proposte e scrivere un progetto da presentare alle istituzioni del territorio.\nLe donne coinvolte saranno chiamate a collaborare attivamente all’elaborazione e alla scrittura del progetto. \nLe attività si svolgono presso la Casa Comune MAG\, dalle 17\,45 alle 19\,30 nelle seguenti date: \nMercoledì 9 aprile – Raccogliere i bisogni e i desideri \nLunedì 14 aprile – Organizzazione e risorse economiche \nLunedì 28 aprile – Luoghi possibili\, case private ed edifici pubblici \nLunedì 5 maggio – Scrittura del progetto da presentare alle istituzioni del territorio \nIl laboratorio è sostenuto da Mag\, in collaborazione con Erika Salici e Manuela Vaccari. La partecipazione è gratuita. \nPer l’iscrizione scrivere a Mag: info@magverona.it; Tel. 045 8100279 \n 
URL:https://rete-ries.it/evento/laboratorio-cohousing-al-femminile/2025-04-09/
LOCATION:CASA COMUNE MAG\, Via Cristofoli 31/A\, Verona\, Italy\, 37138
CATEGORIES:Events
ATTACH;FMTTYPE=image/png:https://rete-ries.it/wp-content/uploads/2022/07/MAG-VERONA.png
END:VEVENT
BEGIN:VEVENT
DTSTART;TZID=Europe/Rome:20250409T210000
DTEND;TZID=Europe/Rome:20250409T223000
DTSTAMP:20260422T032836
CREATED:20250407T071106Z
LAST-MODIFIED:20250407T071106Z
UID:10000333-1744232400-1744237800@rete-ries.it
SUMMARY:Call verso Transizioni Fest
DESCRIPTION:Un festival che si svolgerà in un pezzo di montagna bellissimo\, in una frazione di Airuno\, quindici chilometri da Lecco\nUn festival intergenerazionale di tre giorni immersi nella natura di Cascina Rapello\, un angolo di mondo di cui si prende cura la cooperativa Liberi sogni\, che per questa edizione del festival ha scelto di chiamare diversi compagni di strada: Comune-info\, Mag 2\, Quaderni della decrescita\, Associazione per la decrescita\, Maschile plurale\, Associazione botteghe del mondo\, Circolo Laudato Si’ Valle Susa\, Ares Venezia per l’altraeconomia\, Italia che cambia\, Movimento per la decrescita felice. \nL’obiettivo è studiare e immaginare insieme\, ma anche praticare\, quei mondi nuovi\, di cui abbiamo sempre più bisogno. Questi i temi sui quali saranno proposte discussioni e laboratori: ecologia\, ritorno alla terra\, decrescita\, finanza etica\, iperinformazione\, reincanto\, guerra e pace\, arte e musica (qui informazioni più dettagliate). \nAdesso è il momento di raccogliere qualche proposta. Per questo il festival\, che ovviamente sarà aperto a tutti e tutte\, in queste settimane si rivolge in particolare ai giovani (con meno di 35 anni): volete partecipare portando un’idea o fate di 𝐮𝐧’𝐚𝐬𝐬𝐨𝐜𝐢𝐚𝐳𝐢𝐨𝐧𝐞/𝐠𝐫𝐮𝐩𝐩𝐨 𝐠𝐢𝐨𝐯𝐚𝐧𝐢𝐥𝐞 che vuol far sentire la propria voce?  \nAllora p𝐚𝐫𝐭𝐞𝐜𝐢𝐩𝐚te 𝐚𝐥𝐥𝐚 𝐜𝐚𝐥𝐥 𝐝𝐢 𝐦𝐞𝐫𝐜𝐨𝐥𝐞𝐝𝐢̀ 𝟗 𝐚𝐩𝐫𝐢𝐥𝐞 (ore 𝟐𝟏):\nbasta compilare prima il semplice form per ricevere il link con cui collegarsi. \n 
URL:https://rete-ries.it/evento/call-verso-transizioni-fest/
LOCATION:Online
CATEGORIES:Events
ATTACH;FMTTYPE=image/jpeg:https://rete-ries.it/wp-content/uploads/2025/04/TF.jpg
END:VEVENT
BEGIN:VEVENT
DTSTART;TZID=Europe/Rome:20250410T180000
DTEND;TZID=Europe/Rome:20250410T194500
DTSTAMP:20260422T032836
CREATED:20250407T065528Z
LAST-MODIFIED:20250407T070149Z
UID:10000332-1744308000-1744314300@rete-ries.it
SUMMARY:Democrazia\, economia sociale e solidale: il rapporto con la politica.
DESCRIPTION:Primo appuntamento di una Incontri su democrazia e “diverse economie” La RIES – Rete Italiana per l’Economia Solidale ha deciso di svolgere un ruolo più attivo nel dibattito pubblico. \nDurante i primi incontri proponiamo un confronto sulla raccolta e condivisione delle esperienze di sostegno pubblico o da parte di altre istituzioni alle forme economiche “diverse”\, come anche della partecipazione delle stesse agli spazi di governance\, insieme ad altri attori economici e della società civile. \nParteciperanno a questo primo incontro: \n\nRoberto Sensi (ActionAid Italia)\,\nSoana Tortora (Solidarius Italia)\,\nMarco Pignatiello (Arci Bologna)\,\nMichele Sorice (Sapienza Università di Roma).\n\nPer iscriversi: \nhttps://uniroma1.zoom.us/…/register/XTjciCuBSF6SNZ4MGDHoUw \nDopo l’iscrizione\, riceverai un’email di conferma con le informazioni necessarie per entrare nella riunione. \nPer info:  info@rete-ries.it \n  \nGli incontri sono organizzati in collaborazione con l’unità di ricerca Media e democrazia del Dipartimento di Comunicazione e Ricerca Sociale della Sapienza Università di Roma. \nClicca qui per approfondire \nClicca qui per l’evento FB
URL:https://rete-ries.it/evento/democrazia-economia-sociale-e-solidale-il-rapporto-con-la-politica/
LOCATION:Online
ATTACH;FMTTYPE=image/png:https://rete-ries.it/wp-content/uploads/2025/03/Webinar-Democrazia-10-aprile-2025-lungo-v1.2-Mr.png
ORGANIZER;CN="RIES":MAILTO:info@rete-ries.it
END:VEVENT
BEGIN:VEVENT
DTSTART;TZID=Europe/Rome:20250413T103000
DTEND;TZID=Europe/Rome:20250413T130000
DTSTAMP:20260422T032836
CREATED:20250312T114034Z
LAST-MODIFIED:20250312T114034Z
UID:10000316-1744540200-1744549200@rete-ries.it
SUMMARY:Torna il Mercato sociale contadino di Oltre Mercato Salento
DESCRIPTION:Nuovi appuntamenti con il Mercato Sociale contadino a Lecce domenica 16 marzo\, 13 aprile e 18 maggio. \nOltre Mercato Salento dà continuità all’esperienza\, che si tiene presso il Centro Multiculturale Crocevia\, in Via Guido Dorsi e che viene riproposta ogni mese. \n✨ Cosa vi aspetta: \n\nMercato Sociale con i produttori e le produttrici di OLTREMERCATO: un’opportunità unica per sostenere l’economia locale e fare scelte consapevoli per il nostro pianeta.\nQui l’elenco di chi parteciperà: https://www.oltremercatosalento.org/i-nostri-produttori/\nSwap Market con FRIDAYS FOR FUTURE LECCE: Portate i vostri oggetti che non usate più e scambiateli con nuovi tesori! Un modo divertente e sostenibile per ridurre i rifiuti e dare nuova vita agli oggetti.\nLaboratori per bambini e bambine con Veronica: I più piccoli (dai 6 ai 10 anni) potranno divertirsi con attività di riciclo e connessione con la natura. Un modo creativo per imparare a rispettare il nostro ambiente!\nAperitivo\, Pranzo e convivialità: un’occasione per gustare piatti deliziosi e condividere esperienze con gli altri partecipanti.\nPer riservare il vostro posto\, chiamate il numero 393 3998868.\n\nClicca qui per guardare il video  \nPer informazioni\nEmail: oltremercatosalento@gmail.com\nFB: https://www.facebook.com/oltremercatosalento/   WEB: www.oltremercatosalento.org
URL:https://rete-ries.it/evento/torna-il-mercato-sociale-contadino-di-oltre-mercato-salento/2025-04-13/
LOCATION:Centro Multiculturale Crocevia\, Via Guido Dorsi\, Lecce\, Italy
CATEGORIES:Events
ATTACH;FMTTYPE=image/jpeg:https://rete-ries.it/wp-content/uploads/2025/03/EventI-Crocevia.jpg
END:VEVENT
END:VCALENDAR