BEGIN:VCALENDAR
VERSION:2.0
PRODID:-//RIES - Rete Italiana Economia Solidale - ECPv6.15.20//NONSGML v1.0//EN
CALSCALE:GREGORIAN
METHOD:PUBLISH
X-ORIGINAL-URL:https://rete-ries.it
X-WR-CALDESC:Eventi per RIES - Rete Italiana Economia Solidale
REFRESH-INTERVAL;VALUE=DURATION:PT1H
X-Robots-Tag:noindex
X-PUBLISHED-TTL:PT1H
BEGIN:VTIMEZONE
TZID:Europe/Rome
BEGIN:DAYLIGHT
TZOFFSETFROM:+0100
TZOFFSETTO:+0200
TZNAME:CEST
DTSTART:20250330T010000
END:DAYLIGHT
BEGIN:STANDARD
TZOFFSETFROM:+0200
TZOFFSETTO:+0100
TZNAME:CET
DTSTART:20251026T010000
END:STANDARD
BEGIN:DAYLIGHT
TZOFFSETFROM:+0100
TZOFFSETTO:+0200
TZNAME:CEST
DTSTART:20260329T010000
END:DAYLIGHT
BEGIN:STANDARD
TZOFFSETFROM:+0200
TZOFFSETTO:+0100
TZNAME:CET
DTSTART:20261025T010000
END:STANDARD
BEGIN:DAYLIGHT
TZOFFSETFROM:+0100
TZOFFSETTO:+0200
TZNAME:CEST
DTSTART:20270328T010000
END:DAYLIGHT
BEGIN:STANDARD
TZOFFSETFROM:+0200
TZOFFSETTO:+0100
TZNAME:CET
DTSTART:20271031T010000
END:STANDARD
END:VTIMEZONE
BEGIN:VEVENT
DTSTART;TZID=Europe/Rome:20260317T170000
DTEND;TZID=Europe/Rome:20260317T190000
DTSTAMP:20260419T230205
CREATED:20260316T201242Z
LAST-MODIFIED:20260316T201436Z
UID:10000381-1773766800-1773774000@rete-ries.it
SUMMARY:Co.Re. Modulo comunità territoriali
DESCRIPTION:Re17-19 marzo – 5 modulo Comunità Territoriali Solidali\ndi Saperi Comuni – \nRafforzare il welfare comunitario\, il mutuo aiuto e le reti di economia sociale e solidale. \nIl 5° Modulo del corso di formazione on Line del progetto CORE\, si concentrerà sull’importanza delle comunità nella trasformazione di un territorio.\nLe lezioni sono in modalità sincrona e disponibili anche in asincrono sulla piattaforma per gli iscritti. \n👉 Per partecipare registrati su www.sapericomuni.it\n👉 Scopri di più su www.arcsculturesolidali.org \nClicca qui per approfondire \n 
URL:https://rete-ries.it/evento/co-re-modulo-comunita-territoriali/2026-03-17/
LOCATION:Online
CATEGORIES:Events
ATTACH;FMTTYPE=image/jpeg:https://rete-ries.it/wp-content/uploads/2026/03/CoRe-Formazione.jpg
ORGANIZER;CN="RIES":MAILTO:info@rete-ries.it
END:VEVENT
BEGIN:VEVENT
DTSTART;TZID=Europe/Rome:20260319T170000
DTEND;TZID=Europe/Rome:20260319T190000
DTSTAMP:20260419T230205
CREATED:20260316T201242Z
LAST-MODIFIED:20260316T201436Z
UID:10000382-1773939600-1773946800@rete-ries.it
SUMMARY:Co.Re. Modulo comunità territoriali
DESCRIPTION:Re17-19 marzo – 5 modulo Comunità Territoriali Solidali\ndi Saperi Comuni – \nRafforzare il welfare comunitario\, il mutuo aiuto e le reti di economia sociale e solidale. \nIl 5° Modulo del corso di formazione on Line del progetto CORE\, si concentrerà sull’importanza delle comunità nella trasformazione di un territorio.\nLe lezioni sono in modalità sincrona e disponibili anche in asincrono sulla piattaforma per gli iscritti. \n👉 Per partecipare registrati su www.sapericomuni.it\n👉 Scopri di più su www.arcsculturesolidali.org \nClicca qui per approfondire \n 
URL:https://rete-ries.it/evento/co-re-modulo-comunita-territoriali/2026-03-19/
LOCATION:Online
CATEGORIES:Events
ATTACH;FMTTYPE=image/jpeg:https://rete-ries.it/wp-content/uploads/2026/03/CoRe-Formazione.jpg
ORGANIZER;CN="RIES":MAILTO:info@rete-ries.it
END:VEVENT
BEGIN:VEVENT
DTSTART;VALUE=DATE:20260320
DTEND;VALUE=DATE:20260322
DTSTAMP:20260419T230205
CREATED:20260128T131057Z
LAST-MODIFIED:20260128T131133Z
UID:10000370-1773964800-1774137599@rete-ries.it
SUMMARY:Incontro nazionale delle Reti e dei Distretti di Economia Solidale
DESCRIPTION:Un’occasione di confronto\, per fare un bilancio e per pensare al futuro\, a quasi 20 anni dalla pubblicazione della Carta RES.\n\n\n\n\n\n\n\n\n\n\n\n\nA Roma\,si terrà un incontro che intende proporsi come un momento per presentare le attività svolte in questi decenni\, le strategie e i progetti realizzati e può essere un’occasione per fare un bilancio dell’Economia Solidale\, una forma di sviluppo di proposte di altraeconomia\, e per pensare ai progetti futuri. \nL’incontro è organizzato dalla Rete Italiana Economia Solidale\, RIES\, e dal Dipartimento di Comunicazione e Ricerca Sociale della Sapienza Università di Roma nell’ambito progetto CORE Comunità Reattive e Resilienti\, un progetto di formazione e comunicazione sulla transizione ecologica\, il consumo critico\, l’economia solidale e le alternative alla economia estrattiva finanziato dal Ministero del Lavoro e del Welfare. \nClicca qui per approfondire \n\n 
URL:https://rete-ries.it/evento/incontro-nazionale-delle-reti-e-dei-distretti-di-economia-solidale/
LOCATION:ROMA\, Roma\, Italy
CATEGORIES:Events
ATTACH;FMTTYPE=image/png:https://rete-ries.it/wp-content/uploads/2026/01/Incontro-DES-CORE-lungo-v2.0.png
ORGANIZER;CN="RIES":MAILTO:info@rete-ries.it
END:VEVENT
BEGIN:VEVENT
DTSTART;TZID=Europe/Rome:20260321T100000
DTEND;TZID=Europe/Rome:20260321T130000
DTSTAMP:20260419T230205
CREATED:20260305T132710Z
LAST-MODIFIED:20260305T132710Z
UID:10000380-1774087200-1774098000@rete-ries.it
SUMMARY:Assemblea nazionale percorso CERS
DESCRIPTION:E’ convocato ufficialmente la prossima assemblea nazionale del percorso sulle CERS\, le Comunità Energetiche Rinnovabili Solidali. \nSi terrà in modalità mista a Roma. Seguirà a breve la comunicazione del luogo e il link per collegarsi. \nChi vuole partecipare in presenza scriva all’indirizzo  movimentocers@gmail.com \nOrdine del giorno previsto:\n-approvazione manifesto\n-prime rivendicazioni su cui organizzare mobilitazioni\n-corso formazione cers e mappatura
URL:https://rete-ries.it/evento/assemblea-nazionale-percorso-cers/
LOCATION:Online
CATEGORIES:Events
ATTACH;FMTTYPE=image/jpeg:https://rete-ries.it/wp-content/uploads/2025/09/cers_gkn_s.jpg
ORGANIZER;CN="RIES":MAILTO:info@rete-ries.it
END:VEVENT
BEGIN:VEVENT
DTSTART;VALUE=DATE:20260324
DTEND;VALUE=DATE:20260508
DTSTAMP:20260419T230205
CREATED:20260401T082408Z
LAST-MODIFIED:20260401T082527Z
UID:10000385-1774310400-1778198399@rete-ries.it
SUMMARY:CERS dalla A alla Z - Corso online
DESCRIPTION:Corso di formazione sulle Comunità Energetiche Rinnovabili e Solidali (CERS)\nUn percorso completo per imparare come costruire una CERS dalla A alla Z:\n📅 10 incontri dal 24 marzo al 7 maggio\nRivolto ad attivisti\, cittadini\, associazioni e professionisti \n👉 Programma completo: \nCome costruire una Comunità Energetiche Rinnovabili e Solidali (CERS) dalla A alla Z \n \n👉 Per partecipare:\nvai su www.sapericomuni.it\n\, registrati alla piattaforma e-learning e iscriviti al corso sulle CERS \nMateriali e registrazioni sempre disponibili\nAttestato su richiesta
URL:https://rete-ries.it/evento/246028/
LOCATION:Online
CATEGORIES:Events
ATTACH;FMTTYPE=image/jpeg:https://rete-ries.it/wp-content/uploads/2026/04/CERS-dalla-A-alla-Z_s.jpeg
ORGANIZER;CN="Reorient":MAILTO:reorient.it
END:VEVENT
BEGIN:VEVENT
DTSTART;TZID=Europe/Rome:20260407T173000
DTEND;TZID=Europe/Rome:20260407T193000
DTSTAMP:20260419T230205
CREATED:20260401T074203Z
LAST-MODIFIED:20260401T074203Z
UID:10000384-1775583000-1775590200@rete-ries.it
SUMMARY:Organizzare il consumo responsabile per fermare il caporalato
DESCRIPTION:Il caporalato non si combatte solo nei campi\, ma anche nei luoghi in cui si decide cosa e come acquistare. Il consumo non è neutrale: è uno spazio politico. \nQuesto incontro nasce per fare un passo in avanti all’idea di consumo critico come scelta individuale e costruire pratiche collettive capaci di incidere sulle filiere produttive. Organizzare cittadini\, reti e comunità significa esercitare un potere concreto: premiare chi rispetta i diritti\, escludere chi sfrutta\, cambiare le regole del mercato. \nAll’interno del progetto IRIS – Investire Responsabilmente in Inclusione e Sostenibilità – l’iniziativa promuove la costruzione di un patto di comunità territoriale che metta in relazione consumo organizzato\, lavoro dignitoso e giustizia sociale\, rafforzando il ruolo delle comunità come soggetti attivi di trasformazione. \n\nIntroduce \nRiccardo Troisi – Reorient / NeXt Nuova Economia per Tutti \nEleonora Messina ADOC \n______ \nIntervengono \nFabio Ciconte – Terra! Presidente Consiglio del Cibo di Roma * \nSilvia Guaraldi – Segretaria nazionale FLAI CGIL \nMarco Binotto – Rete Economia Solidale e Sociale Roma (RESS Roma) / RIES \nAgnese Zingaretti – Libera \nFrancesca Rocchi – Slow Food Roma \nSalvatore Stingo – Cooperativa Agricoltura Capodarco – \nOliviero Bettinelli – Ufficio per la Pastorale Sociale Lavoro Ecologia Integrale – Diocesi di Roma \n*rappresentante *UILA (Unione Italiana dei Lavori Agroalimentari) \n______ \nModera \nBarbara Bonomi – giornalista \nGiulio Iocco – Reorient / NeXt Nuova Economia per Tutti
URL:https://rete-ries.it/evento/organizzare-il-consumo-responsabile-per-fermare-il-caporalato/
LOCATION:Polo Civico Esquilino\, Via Galilei\, 57\, Roma
CATEGORIES:Events
ATTACH;FMTTYPE=image/jpeg:https://rete-ries.it/wp-content/uploads/2026/04/Roma-caporalato.jpeg
ORGANIZER;CN="Reorient":MAILTO:reorient.it
END:VEVENT
BEGIN:VEVENT
DTSTART;TZID=Europe/Rome:20260409T210000
DTEND;TZID=Europe/Rome:20260409T223000
DTSTAMP:20260419T230205
CREATED:20260401T093541Z
LAST-MODIFIED:20260401T093652Z
UID:10000386-1775768400-1775773800@rete-ries.it
SUMMARY:Incontro online: Chi decide sul nostro cibo?
DESCRIPTION:CO-energia invita a partecipare all’incontro on line Chi decide sul nostro cibo? Nuovi OGM: brevetti\, trasparenza\, biodiversità e sovranità alimentare a rischio giovedì 9 aprile\, ore 21. \nCOLLEGAMENTO ZOOM \nDIRETTA FACEBOOK \nSarà un’occasione per capire le implicazioni scientifiche\, i possibili impatti su territori e produzioni e cosa sta succedendo a livello normativo\, ma anche per confrontarci su cosa possono fare agricoltori\, GAS\, Amministrazioni Locali\, Associazioni\, cittadini. \nSoprattutto\, sarà un momento per unire le voci\, per rafforzare relazioni e alleanze che possano continuare nel tempo\, per costruire insieme un modello agricolo fondato su biodiversità\, trasparenza e sovranità alimentare. \nIntervengono:\n– Alberta Cardinali\, Vicepresidente CO-energia\n– Daniela Conti\, biologa ed esperta di genetica molecolare\n– Giovanni Battista Girolomoni\, Cooperativa Girolomoni\n– Antonio Onorati\, ECVC/ARI Associazione Rurale Italiana\n– Andrea Nobili\, Capogruppo AVS Regione Marche
URL:https://rete-ries.it/evento/246035/
LOCATION:Online
CATEGORIES:Events
ATTACH;FMTTYPE=image/jpeg:https://rete-ries.it/wp-content/uploads/2026/04/coenergia_cibo_s.jpg
END:VEVENT
BEGIN:VEVENT
DTSTART;TZID=Europe/Rome:20260421T180000
DTEND;TZID=Europe/Rome:20260421T183000
DTSTAMP:20260419T230205
CREATED:20260418T102920Z
LAST-MODIFIED:20260418T103045Z
UID:10000389-1776794400-1776796200@rete-ries.it
SUMMARY:Webinar "Che futuro per le CER?"
DESCRIPTION:E’nostra propone un webinar dedicato alle CER\, nel format denominato “è mezzora”\, dal titolo : \n“Che futuro per le CER? Bilancio\, scenari possibili e l’ecosistema CER di ènostra”.  \n\nA più di due anni dall’emanazione del decreto attuativo che regola gli incentivi delle CER\, tracceremo un bilancio e alcuni scenari possibili per il futuro con Annalisa Rizzo\, responsabile del team CER\, Chiara Brogi\, vicepresidente di ènostra e Luca Varotto\, referente del team CER di ènostra\, moderati da Marianna Usuelli\, responsabile comunicazione. \nSarà anche l’occasione per raccontare la rete di CER partner di ènostra\, che condividono 11 principi guida alla base di una visione sociale delle CER come strumento di democrazia energetica. \nClicca qui per iscriverti
URL:https://rete-ries.it/evento/webinar-che-futuro-per-le-cer/
LOCATION:Online
CATEGORIES:Events
ATTACH;FMTTYPE=image/png:https://rete-ries.it/wp-content/uploads/2026/04/emezzora-1.png
ORGANIZER;CN="RIES":MAILTO:info@rete-ries.it
END:VEVENT
BEGIN:VEVENT
DTSTART;TZID=Europe/Rome:20260423T183000
DTEND;TZID=Europe/Rome:20260423T193000
DTSTAMP:20260419T230205
CREATED:20260418T093218Z
LAST-MODIFIED:20260418T093218Z
UID:10000388-1776969000-1776972600@rete-ries.it
SUMMARY:Presentazione del fumetto “La partigiana Lia vive ancora nelle strade di Niguarda”
DESCRIPTION:Le resistenti non sono state solo staffette ma il collante del tessuto antifascista della città: il ruolo dei Gruppi di difesa della donna nel fumetto “La partigiana Lia vive ancora nelle strade di Niguarda” di Martina Ferlisi e Chiara Piccinno\, per la serie “Fumetti per agire”\, dal numero di aprile del mensile Altreconomia. \n\nIl mensile Altreconomia dal numero di aprile contiene anche fumetti. Sull’ultimo numero si scrive e si disegna della partigiana Lia.\nIl fumetto viene presentato il 23 aprile\, a Niguarda. in collaborazione con ANPI Niguarda. Segue aperitivo.
URL:https://rete-ries.it/evento/presentazione-del-fumetto-la-partigiana-lia-vive-ancora-nelle-strade-di-niguarda/
LOCATION:Artis Bar Gelateria Sociale\, via Adriatico\, 10\, MIlano\, Italy
CATEGORIES:Events
ATTACH;FMTTYPE=image/jpeg:https://rete-ries.it/wp-content/uploads/2026/04/Locandina_Artis_s.jpg
ORGANIZER;CN="Altreconomia":MAILTO:segreteria@altreconomia.it
END:VEVENT
BEGIN:VEVENT
DTSTART;VALUE=DATE:20260524
DTEND;VALUE=DATE:20260526
DTSTAMP:20260419T230205
CREATED:20260327T112322Z
LAST-MODIFIED:20260327T112322Z
UID:10000383-1779580800-1779753599@rete-ries.it
SUMMARY:Nuova edizione di Solidalia\, la festa dell'Economia Solidale
DESCRIPTION:Torna la Festa dell’economia solidale che ruoterà attorno al tema della cura\, il filo invisibile che tiene insieme comunità\, lavoro\, cibo e democrazia. \nClicca qui per approfondire \nPer informazioni e aggiornamenti sul programma: https://www.solidalia.org \nPer qualsiasi richiesta scrivere a solidalia.parma@gmail.com
URL:https://rete-ries.it/evento/nuova-edizione-di-solidalia-la-festa-delleconomia-solidale/
LOCATION:Fattoria di Vigheffio\, Collecchio\, Parma\, Italy
CATEGORIES:Events
ATTACH;FMTTYPE=image/jpeg:https://rete-ries.it/wp-content/uploads/2026/03/Solidalia-2026-locandina_s.jpeg
END:VEVENT
END:VCALENDAR