BEGIN:VCALENDAR
VERSION:2.0
PRODID:-//RIES - Rete Italiana Economia Solidale - ECPv6.15.20//NONSGML v1.0//EN
CALSCALE:GREGORIAN
METHOD:PUBLISH
X-WR-CALNAME:RIES - Rete Italiana Economia Solidale
X-ORIGINAL-URL:https://rete-ries.it
X-WR-CALDESC:Eventi per RIES - Rete Italiana Economia Solidale
REFRESH-INTERVAL;VALUE=DURATION:PT1H
X-Robots-Tag:noindex
X-PUBLISHED-TTL:PT1H
BEGIN:VTIMEZONE
TZID:Europe/Rome
BEGIN:DAYLIGHT
TZOFFSETFROM:+0100
TZOFFSETTO:+0200
TZNAME:CEST
DTSTART:20230326T010000
END:DAYLIGHT
BEGIN:STANDARD
TZOFFSETFROM:+0200
TZOFFSETTO:+0100
TZNAME:CET
DTSTART:20231029T010000
END:STANDARD
BEGIN:DAYLIGHT
TZOFFSETFROM:+0100
TZOFFSETTO:+0200
TZNAME:CEST
DTSTART:20240331T010000
END:DAYLIGHT
BEGIN:STANDARD
TZOFFSETFROM:+0200
TZOFFSETTO:+0100
TZNAME:CET
DTSTART:20241027T010000
END:STANDARD
BEGIN:DAYLIGHT
TZOFFSETFROM:+0100
TZOFFSETTO:+0200
TZNAME:CEST
DTSTART:20250330T010000
END:DAYLIGHT
BEGIN:STANDARD
TZOFFSETFROM:+0200
TZOFFSETTO:+0100
TZNAME:CET
DTSTART:20251026T010000
END:STANDARD
END:VTIMEZONE
BEGIN:VEVENT
DTSTART;TZID=Europe/Rome:20240423T210000
DTEND;TZID=Europe/Rome:20240423T233000
DTSTAMP:20260420T150730
CREATED:20240423T111117Z
LAST-MODIFIED:20240423T114105Z
UID:10000245-1713906000-1713915000@rete-ries.it
SUMMARY:Agricoltura\, politica\, Green Deal e mondo Gas
DESCRIPTION:Incontro organizzato da Aequos per riflettere sul presente e il futuro del mondo agricolo e del mondo GAS. \nIntervengono Tonino Perna\, Professore Emerito di Sociologia Economica Università degli Studi di Messina\nFondatore di Altreconomia\, Bruno Sebastianelli Presidente Cooperativa La Terra e il Cielo\, Cristiana Smurra Contitolare Azienda Agricola Biosmurra e Maurizio Gritta Fondatore Cooperativa Agricola Iris. \nL’incontro si svolgerà in modalità online al seguente indirizzo: https://cooperativaaequos.my.webex.com/meet/info \nRaccomandiamo di collegarsi circa 10 minuti prima dell’orario indicato \nVi aspettiamo numerosi! Contatti: cultura@aequos.bio \n  \n  \nClicca sulla locandina per leggere i dettagli
URL:https://rete-ries.it/evento/agricoltura-politica-green-deal-e-mondo-gas/
LOCATION:Online
CATEGORIES:Events
ATTACH;FMTTYPE=image/jpeg:https://rete-ries.it/wp-content/uploads/2024/04/2404_Aequos_AgricolturaGas_s.jpg
ORGANIZER;CN="Aequos":MAILTO:info@aequos.bio
END:VEVENT
END:VCALENDAR