BEGIN:VCALENDAR
VERSION:2.0
PRODID:-//RIES - Rete Italiana Economia Solidale - ECPv6.15.20//NONSGML v1.0//EN
CALSCALE:GREGORIAN
METHOD:PUBLISH
X-ORIGINAL-URL:https://rete-ries.it
X-WR-CALDESC:Eventi per RIES - Rete Italiana Economia Solidale
REFRESH-INTERVAL;VALUE=DURATION:PT1H
X-Robots-Tag:noindex
X-PUBLISHED-TTL:PT1H
BEGIN:VTIMEZONE
TZID:Europe/Rome
BEGIN:DAYLIGHT
TZOFFSETFROM:+0100
TZOFFSETTO:+0200
TZNAME:CEST
DTSTART:20220327T010000
END:DAYLIGHT
BEGIN:STANDARD
TZOFFSETFROM:+0200
TZOFFSETTO:+0100
TZNAME:CET
DTSTART:20221030T010000
END:STANDARD
BEGIN:DAYLIGHT
TZOFFSETFROM:+0100
TZOFFSETTO:+0200
TZNAME:CEST
DTSTART:20230326T010000
END:DAYLIGHT
BEGIN:STANDARD
TZOFFSETFROM:+0200
TZOFFSETTO:+0100
TZNAME:CET
DTSTART:20231029T010000
END:STANDARD
BEGIN:DAYLIGHT
TZOFFSETFROM:+0100
TZOFFSETTO:+0200
TZNAME:CEST
DTSTART:20240331T010000
END:DAYLIGHT
BEGIN:STANDARD
TZOFFSETFROM:+0200
TZOFFSETTO:+0100
TZNAME:CET
DTSTART:20241027T010000
END:STANDARD
BEGIN:DAYLIGHT
TZOFFSETFROM:+0100
TZOFFSETTO:+0200
TZNAME:CEST
DTSTART:20250330T010000
END:DAYLIGHT
BEGIN:STANDARD
TZOFFSETFROM:+0200
TZOFFSETTO:+0100
TZNAME:CET
DTSTART:20251026T010000
END:STANDARD
BEGIN:DAYLIGHT
TZOFFSETFROM:+0100
TZOFFSETTO:+0200
TZNAME:CEST
DTSTART:20260329T010000
END:DAYLIGHT
BEGIN:STANDARD
TZOFFSETFROM:+0200
TZOFFSETTO:+0100
TZNAME:CET
DTSTART:20261025T010000
END:STANDARD
BEGIN:DAYLIGHT
TZOFFSETFROM:+0100
TZOFFSETTO:+0200
TZNAME:CEST
DTSTART:20270328T010000
END:DAYLIGHT
BEGIN:STANDARD
TZOFFSETFROM:+0200
TZOFFSETTO:+0100
TZNAME:CET
DTSTART:20271031T010000
END:STANDARD
END:VTIMEZONE
BEGIN:VEVENT
DTSTART;TZID=Europe/Rome:20260130T110000
DTEND;TZID=Europe/Rome:20260130T120000
DTSTAMP:20260420T153115
CREATED:20260128T161906Z
LAST-MODIFIED:20260128T162058Z
UID:10000372-1769770800-1769774400@rete-ries.it
SUMMARY:Conferenza pubblica “Oro colato” al Senato della Repubblica
DESCRIPTION:“Oro colato” è un libro di inchiesta e riflessione edito da Altreconomia\, che non vuole ricostruire solo “come è andata” ma fornire idee e strumenti per un modello diverso dai “grandi eventi”. \nSarà oggetto di una conferenza pubblica che si terrà alla Sala Isma del Senato della Repubblica\,. \nI lavori del convegno saranno trasmessi in diretta streaming al link https://webtv.senato.it e sul canale YouTube del Senato https://www.youtube.com/user/SenatoItaliano \nConferenza “Oro Colato\, L’eredità per pochi delle Olimpiadi di Milano Cortina. Tra promesse di sostenibilità ed “extra-costi” milionari a carico del pubblico. Il punto della situazione a una settimana dai Giochi”  \nSaluti iniziali: Tino Magni (senatore Alleanza Verdi e Sinistra) \nIntervengono: \n\nDuccio Facchini\, direttore di Altreconomia\, autore del libro “Oro colato”\nLuigi Casanova\, presidente di Mountain Wilderness Italia\, autore del libro “Oro colato”\nBarbara Baldini\, già sindaca di Montagna in Valtellina (SO)\nGiovanna Ceiner\, Italia Nostra Belluno\nLeonardo Ferrante\, Libera per campagna Open Olympics (da remoto)\n\nClicca qui per approfondire sul sito di Altreconomia \nVen. 30/1 ore 11 – Incontro alla sala Isma del Senato
URL:https://rete-ries.it/evento/conferenza-pubblica-oro-colato-al-senato-della-repubblica/
LOCATION:on line
CATEGORIES:Events
ATTACH;FMTTYPE=image/jpeg:https://rete-ries.it/wp-content/uploads/2026/01/Cop_OROCOLATO_s.jpg
ORGANIZER;CN="Altreconomia":MAILTO:segreteria@altreconomia.it
END:VEVENT
BEGIN:VEVENT
DTSTART;TZID=Europe/Rome:20250708T150000
DTEND;TZID=Europe/Rome:20250708T170000
DTSTAMP:20260420T153115
CREATED:20250707T142458Z
LAST-MODIFIED:20250709T120845Z
UID:10000350-1751986800-1751994000@rete-ries.it
SUMMARY:Presentazione inchiesta "Altro che 'Food for Gaza' "
DESCRIPTION:Martedì 8 luglio alla sala Isma del Senato la rivista Altreconomia (socia Ries) presenta l’inchiesta “Altro che ‘Food for Gaza’” sulle forniture militari italiane a Israele. Dall’export di armamenti agli aiuti umanitari\, le cose non stanno come dice il governo. \nTra gli interventi anche quello di una rappresentanza delle famiglie evacuate in Italia dalla Striscia di Gaza. \nPer partecipare in presenza occorre iscriversi qui: https://forms.gle/SS8BdLNhW9HWZ4Jt7 \nPer seguire la diretta streaming: https://webtv.senato.it/webtv  \n—– \nPer chi ha perso la diretta\, condividiamo l’integrale della presentazione dell’inchiesta “Altro che ‘Food for Gaza’” alla sala Isma del Senato.\nÈ stato un momento molto importante. Tra gli interventi anche quello di Islam Abu Warda\, evacuata dalla Striscia di Gaza in Italia. Eccone un passaggio trascritto. \n“Noi veniamo da Gaza. Siamo scappati non per paura\, ma per trovare cure mediche e salvare i nostri bambini. Abbiamo perso le nostre famiglie\, le nostre case e tante persone care. Ora siamo qui\, lontani da casa\, con tanto dolore. Siamo arrivati in Italia con corpi stanchi per la guerra e cuori pieni di tristezza. Non cerchiamo solo riposo\, ma vogliamo tornare a casa quando sarà libera. Tutti sognano di crescere nella propria città\, con la propria lingua e la propria cultura. Noi non volevamo lasciare la nostra vita\, ma siamo stati obbligati a farlo. Il popolo di Gaza sta soffrendo tanto. Non è una guerra\, ma un massacro davanti a tutto il mondo. […] Ascoltateci\, non ignorate la nostra voce. Sosteneteci\, non lasciateci soli. La giustizia inizia quando si dice la verità. Grazie per averci ascoltato con cuore aperto. Il vostro ascolto è un segno di solidarietà che non dimenticheremo mai”
URL:https://rete-ries.it/evento/presentazione-inchiesta-altro-che-food-for-gaza/
LOCATION:Online
CATEGORIES:Events
ATTACH;FMTTYPE=image/jpeg:https://rete-ries.it/wp-content/uploads/2025/07/Food-for-Gaza_S.jpg
ORGANIZER;CN="Altreconomia":MAILTO:segreteria@altreconomia.it
END:VEVENT
BEGIN:VEVENT
DTSTART;TZID=Europe/Rome:20250614T160000
DTEND;TZID=Europe/Rome:20250614T200000
DTSTAMP:20260420T153115
CREATED:20250613T125251Z
LAST-MODIFIED:20250613T125413Z
UID:10000349-1749916800-1749931200@rete-ries.it
SUMMARY:SCELTE DISARMANTI:  Lotte e Percorsi per un'Europa di Pace
DESCRIPTION:Invito al CONVEGNO Economia di Guerra\,  il piano di riarmo europeo e gli investimenti nelle infrastrutture militari\, che si terrà sia IN PRESENZA sia IN STREAMING.\n\nLa logica di investimento in caserme verdi\, aeroporti azzurri e porti blu\, non riesce a mascherare l’opera di devastazione ambientale e sociale che la militarizzazione dei territori comporta. \nLa retorica della cultura della difesa e della continua propaganda allarmista sulla necessità di sicurezza mostra in maniera sempre più evidente che la logica perseguita  è la difesa dei confini\, la difesa dello status quo\,  la sicurezza volta a proteggere solo gli  interessi economici dei potentati mondiali.   A questo si contrappone la necessità di garantire alla popolazione la sicurezza di una casa\, di un lavoro\, di un sistema sanitario e scolastico universale e funzionante. \nCon questa iniziativa ci proponiamo di indagare i meccanismi che stanno alla base dell’economia di guerra\, dall’utilizzo del risparmio privato del singolo cittadino all’indebitamento pubblico a livello di Comunità Europea. Si può quantificare l’impatto negativo sui territori di un’economia che finanzia strumenti di morte e distruzione? Quali strategie e pratiche di resistenza possiamo mettere in campo per evitare che le nostre città diventino caserme a cielo aperto? Infine quali sono le possibili alternative per investire sulla salute e il benessere della cittadinanza? \nUna giornata di formazione e divulgazione che sia aperta a tutta la cittadinanza e che possa avere un respiro di interesse globale. \nL’iniziativa sarà trasmessa in streaming sui canali del movimento No Base\, ma sarà contornata in presenza da momenti di socialità e da una mostra sulla storia del movimento stesso. \nPillola Rossa. Focus locale: Territori e Strategie di Lotta \n\nMovimento No Base Desecretare la guerra: un territorio da tutelare.\nSimone Siliani (Direttore Fondazione Finanza Etica) Come si finanzia la guerra: il ruolo delle banche.\nAntonio De Lellis (Centro studi economico sociali per la pace di Pax Christi) Costruire la pace attraverso l’economia\nValentina Mangano (Centro Interdisciplinare Scienze per la Pace) Pratiche di resistenza: il ruolo della ricerca scientifica e dell’università nella promozione della pace\n\nPillola Blu. Piano Inclinato Europeo: il Riarmo da fermare. \n\nSimone D’Alessandro (Docente di Economia Politica\, Università di Pisa) Rearm Europe. Un piano di difesa o di espansione imperialista.\nNicoletta Dentico (Responsabile salute globale – Society for International Development) Warfare VS Welfare: salute o militarizzazione in Europa\nDuccio Facchini (Direttore Altraeconomia) Il Ruolo dell’Industria Bellica Italiana nello scenario Europeo e Internazionale\nHeidi Meinzolt (Women’s International League for Peace and Freedom) Reti Europee contro la guerra. Prospettive per una mobilitazione transnazionale.\n\n\nPromosso da:  Movimento No Base\,  GIT Banca Etica Pisa e Livorno\, Pax Christi\, Un Ponte Per\, Fondazione Finanza Etica\,  Altreconomia\, Chicco di Senape – Bottega Mondo.
URL:https://rete-ries.it/evento/scelte-disarmanti-lotte-e-percorsi-per-uneuropa-di-pace/
LOCATION:SMS Pisa\, Viale delle piagge\, Pisa\, Italy
CATEGORIES:Events
ATTACH;FMTTYPE=image/jpeg:https://rete-ries.it/wp-content/uploads/2025/06/scelte-disarmanti.jpg
END:VEVENT
BEGIN:VEVENT
DTSTART;TZID=Europe/Rome:20250508T210000
DTEND;TZID=Europe/Rome:20250508T230000
DTSTAMP:20260420T153115
CREATED:20250503T125103Z
LAST-MODIFIED:20250503T125738Z
UID:10000336-1746738000-1746745200@rete-ries.it
SUMMARY:CER per tutte le taglie: a Varese si fa il punto
DESCRIPTION:Una serata promossa dal Distretto di Economia Solidale della Provincia di Varese (DES)\, per approfondire il tema delle CER\, riflettere sulle potenzialità delle comunità energetiche e sui bandi attivi ed inoltre confrontarsi con esperti ed esperienze concrete già in atto nel territorio. \nLa serata sarà guidata da  Dino De Simone\, responsabile dell’Area Tecnica Studi e Strumenti per la Transizione Energetica di ARIA Lombardia\, e Gianluca Ruggieri\, ricercatore dell’Università dell’Insubria e coautore del volume “Come si fa una comunità energetica per davvero” (Altreconomia). \nNel corso dell’incontro verranno inoltre presentate esperienze concrete nate nel territorio\, tra cui la CER promossa da VareseNews\, la CER dei Laghi e la CERS Castello Cabiaglio\, oltre ai percorsi avviati sotto il coordinamento della Camera di Commercio di Varese. \nInformazioni e iscrizioni clicca qui.
URL:https://rete-ries.it/evento/cer-per-tutte-le-taglie-a-varese-si-fa-il-punto/
LOCATION:Materia Spazio Libero\, via Confalonieri 5\, Castronno\, Varese\, Italy
CATEGORIES:Events
ATTACH;FMTTYPE=image/jpeg:https://rete-ries.it/wp-content/uploads/2023/05/CER_wikipedia.jpeg
END:VEVENT
BEGIN:VEVENT
DTSTART;VALUE=DATE:20241010
DTEND;VALUE=DATE:20241013
DTSTAMP:20260420T153115
CREATED:20241001T172932Z
LAST-MODIFIED:20241002T074419Z
UID:10000286-1728518400-1728777599@rete-ries.it
SUMMARY:Altreconomia compie 25 anni! 
DESCRIPTION:A Milano\, quartiere Niguarda\, 3 giorni di incontri\, intrattenimento e tante altre attività\, per festeggiare il compleanno della rivista e casa editrice\, socia di Ries. \nClicca qui per tutti i dettagli
URL:https://rete-ries.it/evento/altreconomia-compie-25-anni/
LOCATION:Quartiere Niguarda\, Niguarda\, Milano\, Italy
CATEGORIES:Events
ATTACH;FMTTYPE=image/jpeg:https://rete-ries.it/wp-content/uploads/2024/10/Volantino_A4_FESTA_AE_25Anni-1_s.jpg
ORGANIZER;CN="Altreconomia":MAILTO:segreteria@altreconomia.it
END:VEVENT
BEGIN:VEVENT
DTSTART;TZID=Europe/Rome:20240703T210000
DTEND;TZID=Europe/Rome:20240703T223000
DTSTAMP:20260420T153115
CREATED:20240701T144408Z
LAST-MODIFIED:20240701T144408Z
UID:10000263-1720040400-1720045800@rete-ries.it
SUMMARY:Lib-ribelli: dallo spreco alla solidarietà
DESCRIPTION:CO-energia invita all’incontro di presentazione della campagna “Lib-ribelli: dallo spreco alla solidarietà – Campagna Solidale per salvare storie e creare connessioni“. \nL’iniziativa\, nata dalla collaborazione tra CO-energia e Altreconomia\, mira a ‘salvare’ 350 copie del libro “Un’economia nuova\, dai Gas alla zeta” per trasformarle in strumenti di riflessione\, connessione e supporto a un Fondo di Solidarietà per le emergenze di Gaza. \nDurante l’incontro interverranno:\nAlberta Cardinali (CO-energia) e Nicola Villa (Altreconomia)\, promotori della campagna\nDavide Biolghini e Andrea Saroldi\, curatori del libro “Un’economia nuova\, dai Gas alla zeta”\nGiuditta Brattini – Fonti di Pace (Ass.ne che raccoglie aiuti per Gaza) \nSeguirà uno spazio di confronto con ‘pillole’ di altri autori del libro \n 
URL:https://rete-ries.it/evento/lib-ribelli-dallo-spreco-alla-solidarieta/
LOCATION:Online
CATEGORIES:Events
ATTACH;FMTTYPE=image/jpeg:https://rete-ries.it/wp-content/uploads/2024/07/Lib-ribelli.jpg
ORGANIZER;CN="Altreconomia":MAILTO:segreteria@altreconomia.it
END:VEVENT
BEGIN:VEVENT
DTSTART;TZID=Europe/Rome:20230406T190000
DTEND;TZID=Europe/Rome:20230406T200000
DTSTAMP:20260420T153115
CREATED:20230331T090125Z
LAST-MODIFIED:20230331T090153Z
UID:10000169-1680807600-1680811200@rete-ries.it
SUMMARY:Presentazione del libro "Disarmati" di Riccardo Bottazzo
DESCRIPTION:Riccardo Bottazzo presenta “Disarmati. Paesi senza esercito e altre strategie di pace” alla Libreria Alaska di Milano\, in dialogo con Joshua Evengelista\, giornalista\, co-fondatore e responsabile editoriale di Frontiere News\, che coordina la comunicazione della Fondazione Gariwo \nL’autore racconta l’incredibile storia dei Paesi che hanno rinunciato all’esercito: alcuni\, come le isole Marshall\, per volontà di Paesi più potenti\, altri\, come la piccola isola di Nauru\, perché sono fuori da qualsiasi scenario strategico e sono talmente piccoli che non hanno spazio per una base militare.\nAltri ancora\, come Andorra\, non hanno armamenti per tradizione. Ma ci sono anche Paesi che sono arrivati a questa scelta consapevolmente come il Costa Rica\, dopo una sanguinosa guerra civile\, preferendo investire i fondi destinati ai militari nella scuola\, nella salute e nell’ambiente\, trovando una naturale stabilità economica e sociale. \nIngresso gratuito\, fino esaurimento posti \nMaggiori informazioni: https://altreconomia.it/eventi/disarmati-alaska/
URL:https://rete-ries.it/evento/presentazione-del-libro-disarmati-di-riccardo-bottazzo/
LOCATION:Libreria Alaska\, Via Gian Rinaldo Carli\, 39\, Milano\, Italy
ATTACH;FMTTYPE=image/png:https://rete-ries.it/wp-content/uploads/2023/03/cop_DISARMATI_.png
ORGANIZER;CN="Altreconomia":MAILTO:segreteria@altreconomia.it
END:VEVENT
BEGIN:VEVENT
DTSTART;TZID=Europe/Rome:20230325T120000
DTEND;TZID=Europe/Rome:20230325T133000
DTSTAMP:20260420T153115
CREATED:20230301T094929Z
LAST-MODIFIED:20230305T114155Z
UID:10000158-1679745600-1679751000@rete-ries.it
SUMMARY:C’è vita oltre il mercato? Emergenze\, guerre\, crisi e diritti: il commercio equo e la costruzione dell’altro
DESCRIPTION:Emergenze\, guerre\, crisi e diritti: il commercio equo e la costruzione dell’altro. \nIntervengono:\nMarta Fracasso (Comitato di Valutazione Etica Altromercato)\,\nGiovanni Battista Girolomoni (Pastificio Girolomoni\, presidente)\,\nMassimo Renno (Associazione Botteghe del Mondo\, presidente)\,\nGiuseppe Di Francesco (Fairtrade Italia\, presidente)\,\nDavid Cambioli (Equogarantito\, presidente) \nModerano: Duccio Facchini (Altreconomia)\, Maria Teresa Pecchini (RIES) \nOrganizzato da: RIES (Rete Italiana di Economia Solidale) – Altreconomia \nLeggi di più
URL:https://rete-ries.it/evento/ce-vita-oltre-il-mercato-emergenze-guerre-crisi-e-diritti-il-commercio-equo-e-la-costruzione-dellaltro/
LOCATION:Fà la cosa giusta – Milano\, viale Eginardo\, Milano\, 20149\, Italy
CATEGORIES:Events
ATTACH;FMTTYPE=image/png:https://rete-ries.it/wp-content/uploads/2023/03/FLCG_vita_oltre.png
END:VEVENT
END:VCALENDAR