BEGIN:VCALENDAR
VERSION:2.0
PRODID:-//RIES - Rete Italiana Economia Solidale - ECPv6.15.20//NONSGML v1.0//EN
CALSCALE:GREGORIAN
METHOD:PUBLISH
X-ORIGINAL-URL:https://rete-ries.it
X-WR-CALDESC:Eventi per RIES - Rete Italiana Economia Solidale
REFRESH-INTERVAL;VALUE=DURATION:PT1H
X-Robots-Tag:noindex
X-PUBLISHED-TTL:PT1H
BEGIN:VTIMEZONE
TZID:Europe/Rome
BEGIN:DAYLIGHT
TZOFFSETFROM:+0100
TZOFFSETTO:+0200
TZNAME:CEST
DTSTART:20250330T010000
END:DAYLIGHT
BEGIN:STANDARD
TZOFFSETFROM:+0200
TZOFFSETTO:+0100
TZNAME:CET
DTSTART:20251026T010000
END:STANDARD
BEGIN:DAYLIGHT
TZOFFSETFROM:+0100
TZOFFSETTO:+0200
TZNAME:CEST
DTSTART:20260329T010000
END:DAYLIGHT
BEGIN:STANDARD
TZOFFSETFROM:+0200
TZOFFSETTO:+0100
TZNAME:CET
DTSTART:20261025T010000
END:STANDARD
BEGIN:DAYLIGHT
TZOFFSETFROM:+0100
TZOFFSETTO:+0200
TZNAME:CEST
DTSTART:20270328T010000
END:DAYLIGHT
BEGIN:STANDARD
TZOFFSETFROM:+0200
TZOFFSETTO:+0100
TZNAME:CET
DTSTART:20271031T010000
END:STANDARD
END:VTIMEZONE
BEGIN:VEVENT
DTSTART;TZID=Europe/Rome:20260117T093000
DTEND;TZID=Europe/Rome:20260117T113000
DTSTAMP:20260421T205808
CREATED:20260113T141154Z
LAST-MODIFIED:20260113T141154Z
UID:10000369-1768642200-1768649400@rete-ries.it
SUMMARY:Verso la XXII edizione de L'Isola che c'è
DESCRIPTION:Ci vediamo sabato 17 gennaio a Como?\nLa Fiera delle economie solidali “L’isola che c’è” è un evento in continua trasformazione\, animato dal desiderio di crescere e migliorare a ogni edizione\, grazie anche ai feedback raccolti da partecipanti\, espositori\, realtà coinvolte\, oltre che dallo staff organizzativo. \nLe date della prossima edizione ci sono già: sabato 19 e domenica 20 settembre 2026 saremo di nuovo nel parco comunale di Villa Guardia. \n👉Un primo momento collettivo di riflessione e scambio si terrà sabato 17 gennaio mattina a Como e segnerà l’avvio ufficiale dei lavori.👈 \nCi sarai? \nPer partecipare è possibile scrivere a Simona Rusconi: eventi@ecofficine.org
URL:https://rete-ries.it/evento/verso-la-xxii-edizione-de-lisola-che-ce/
LOCATION:Como\, Como\, Italy
CATEGORIES:Events
ATTACH;FMTTYPE=image/webp:https://rete-ries.it/wp-content/uploads/2026/01/licce.webp
END:VEVENT
END:VCALENDAR