BEGIN:VCALENDAR
VERSION:2.0
PRODID:-//RIES - Rete Italiana Economia Solidale - ECPv6.15.20//NONSGML v1.0//EN
CALSCALE:GREGORIAN
METHOD:PUBLISH
X-WR-CALNAME:RIES - Rete Italiana Economia Solidale
X-ORIGINAL-URL:https://rete-ries.it
X-WR-CALDESC:Eventi per RIES - Rete Italiana Economia Solidale
REFRESH-INTERVAL;VALUE=DURATION:PT1H
X-Robots-Tag:noindex
X-PUBLISHED-TTL:PT1H
BEGIN:VTIMEZONE
TZID:Europe/Rome
BEGIN:DAYLIGHT
TZOFFSETFROM:+0100
TZOFFSETTO:+0200
TZNAME:CEST
DTSTART:20230326T010000
END:DAYLIGHT
BEGIN:STANDARD
TZOFFSETFROM:+0200
TZOFFSETTO:+0100
TZNAME:CET
DTSTART:20231029T010000
END:STANDARD
BEGIN:DAYLIGHT
TZOFFSETFROM:+0100
TZOFFSETTO:+0200
TZNAME:CEST
DTSTART:20240331T010000
END:DAYLIGHT
BEGIN:STANDARD
TZOFFSETFROM:+0200
TZOFFSETTO:+0100
TZNAME:CET
DTSTART:20241027T010000
END:STANDARD
BEGIN:DAYLIGHT
TZOFFSETFROM:+0100
TZOFFSETTO:+0200
TZNAME:CEST
DTSTART:20250330T010000
END:DAYLIGHT
BEGIN:STANDARD
TZOFFSETFROM:+0200
TZOFFSETTO:+0100
TZNAME:CET
DTSTART:20251026T010000
END:STANDARD
END:VTIMEZONE
BEGIN:VEVENT
DTSTART;TZID=Europe/Rome:20241107T180000
DTEND;TZID=Europe/Rome:20241107T193000
DTSTAMP:20260420T165339
CREATED:20241031T003206Z
LAST-MODIFIED:20241103T081920Z
UID:10000289-1731002400-1731007800@rete-ries.it
SUMMARY:Incontro con gli autori della ricerca sul consumo responsabile
DESCRIPTION:Incontro organizzato da Ries con Francesca Forno\, professoressa associata al Dipartimento di Sociologia e Ricerca sociale dell’Università di Trento\, e Paolo Graziano\, professore ordinario al Dipartimento di Scienze politiche\, giuridiche e Studi internazionali all’Università di Padova sull’aggiornamento dell’indagine biennale. \nL’incontro realizzato in collaborazione con il corso “Comunicazione e consumo responsabile” del Dipartimento di Comunicazione e Ricerca Sociale della Sapienza Università di Roma. \nPer partecipare basta iscriversi a questo link:\nhttps://uniroma1.zoom.us/meeting/register/tZEkc-6uqTojHdTqWPdEphjzSKGKvkzpeZBk
URL:https://rete-ries.it/evento/incontro-con-gli-autori-della-ricerca-sul-consumo-responsabile/
LOCATION:Online
CATEGORIES:Events
ATTACH;FMTTYPE=image/jpeg:https://rete-ries.it/wp-content/uploads/2024/10/Forno-Graziano_rett.jpg
ORGANIZER;CN="RIES":MAILTO:info@rete-ries.it
END:VEVENT
END:VCALENDAR