BEGIN:VCALENDAR
VERSION:2.0
PRODID:-//RIES - Rete Italiana Economia Solidale - ECPv6.15.20//NONSGML v1.0//EN
CALSCALE:GREGORIAN
METHOD:PUBLISH
X-WR-CALNAME:RIES - Rete Italiana Economia Solidale
X-ORIGINAL-URL:https://rete-ries.it
X-WR-CALDESC:Eventi per RIES - Rete Italiana Economia Solidale
REFRESH-INTERVAL;VALUE=DURATION:PT1H
X-Robots-Tag:noindex
X-PUBLISHED-TTL:PT1H
BEGIN:VTIMEZONE
TZID:Europe/Rome
BEGIN:DAYLIGHT
TZOFFSETFROM:+0100
TZOFFSETTO:+0200
TZNAME:CEST
DTSTART:20240331T010000
END:DAYLIGHT
BEGIN:STANDARD
TZOFFSETFROM:+0200
TZOFFSETTO:+0100
TZNAME:CET
DTSTART:20241027T010000
END:STANDARD
BEGIN:DAYLIGHT
TZOFFSETFROM:+0100
TZOFFSETTO:+0200
TZNAME:CEST
DTSTART:20250330T010000
END:DAYLIGHT
BEGIN:STANDARD
TZOFFSETFROM:+0200
TZOFFSETTO:+0100
TZNAME:CET
DTSTART:20251026T010000
END:STANDARD
BEGIN:DAYLIGHT
TZOFFSETFROM:+0100
TZOFFSETTO:+0200
TZNAME:CEST
DTSTART:20260329T010000
END:DAYLIGHT
BEGIN:STANDARD
TZOFFSETFROM:+0200
TZOFFSETTO:+0100
TZNAME:CET
DTSTART:20261025T010000
END:STANDARD
END:VTIMEZONE
BEGIN:VEVENT
DTSTART;TZID=Europe/Rome:20250606T160000
DTEND;TZID=Europe/Rome:20250606T173000
DTSTAMP:20260419T162345
CREATED:20250514T231516Z
LAST-MODIFIED:20250514T231959Z
UID:10000345-1749225600-1749231000@rete-ries.it
SUMMARY:Renaissance in Economics - sessione "Food economics" di RIES
DESCRIPTION:Nell’ambito di Conferenza “Renaissance in Economics – 2nd International Conference (Firenze\, 5-6 Giugno 2025)\, organizzato dal Dipartimento di Economia e Management dell’Università di Firenze\, RIES organizza una sessione su “Food economy: Building Resilience and Social Justice in Agricultural Systems through Solidarity Economies\, Self-managed Labour and Agroecology” (“Costruire la resilienza e la giustizia sociale nei sistemi agricoli attraverso le economie solidali\, il lavoro autogestito e l’agroecologia”)\, il 6 giugno alle ore 16\, con interventi di \nJason Nardi (RIES and RIPESS Europe) \nMartina Martignoni (Univ. Pisa e Mondeggi Bene Comune) \nAna Sofia Acosta Alvarado (Univ. Paris 13)
URL:https://rete-ries.it/evento/renaissance-in-economics-sessione-food-economics-di-ries/
LOCATION:Università di Firenze\, Via delle Pandette\, Firenze\, Italy
CATEGORIES:Events
ATTACH;FMTTYPE=image/jpeg:https://rete-ries.it/wp-content/uploads/2025/05/Renaissance_in_economics.jpg
ORGANIZER;CN="RIES":MAILTO:info@rete-ries.it
END:VEVENT
END:VCALENDAR