BEGIN:VCALENDAR
VERSION:2.0
PRODID:-//RIES - Rete Italiana Economia Solidale - ECPv6.15.20//NONSGML v1.0//EN
CALSCALE:GREGORIAN
METHOD:PUBLISH
X-WR-CALNAME:RIES - Rete Italiana Economia Solidale
X-ORIGINAL-URL:https://rete-ries.it
X-WR-CALDESC:Eventi per RIES - Rete Italiana Economia Solidale
REFRESH-INTERVAL;VALUE=DURATION:PT1H
X-Robots-Tag:noindex
X-PUBLISHED-TTL:PT1H
BEGIN:VTIMEZONE
TZID:Europe/Rome
BEGIN:DAYLIGHT
TZOFFSETFROM:+0100
TZOFFSETTO:+0200
TZNAME:CEST
DTSTART:20230326T010000
END:DAYLIGHT
BEGIN:STANDARD
TZOFFSETFROM:+0200
TZOFFSETTO:+0100
TZNAME:CET
DTSTART:20231029T010000
END:STANDARD
BEGIN:DAYLIGHT
TZOFFSETFROM:+0100
TZOFFSETTO:+0200
TZNAME:CEST
DTSTART:20240331T010000
END:DAYLIGHT
BEGIN:STANDARD
TZOFFSETFROM:+0200
TZOFFSETTO:+0100
TZNAME:CET
DTSTART:20241027T010000
END:STANDARD
BEGIN:DAYLIGHT
TZOFFSETFROM:+0100
TZOFFSETTO:+0200
TZNAME:CEST
DTSTART:20250330T010000
END:DAYLIGHT
BEGIN:STANDARD
TZOFFSETFROM:+0200
TZOFFSETTO:+0100
TZNAME:CET
DTSTART:20251026T010000
END:STANDARD
END:VTIMEZONE
BEGIN:VEVENT
DTSTART;TZID=Europe/Rome:20241028T100000
DTEND;TZID=Europe/Rome:20241028T180000
DTSTAMP:20260419T173907
CREATED:20241022T100927Z
LAST-MODIFIED:20241022T100927Z
UID:10000288-1730109600-1730138400@rete-ries.it
SUMMARY:Approfondimento sull'economia solidale argentina
DESCRIPTION:Giornata di approfondimento sull’economia solidale\, sociale e popolare in Argentina\, proposta dal Dipartimento di Scienze Agroalimentari\, Ambientali e Animali dell’Università di Udine\, in collaborazione con l’Universidad Nacional de Quilmes\, la Regione Autonoma Friuli Venezia Giulia e il Forum dei Beni Comuni ed Economia Solidale\, socio di Ries. \nClicca sul volantino per i dettagli
URL:https://rete-ries.it/evento/approfondimento-sulleconomia-solidale-argentina/
LOCATION:Palazzo Antonini-Cernazai\, via Petracco\, 8\, Udine\, Italy
CATEGORIES:Events
ATTACH;FMTTYPE=image/jpeg:https://rete-ries.it/wp-content/uploads/2024/10/ECONOMIA-STAMPA-2024_s.jpg
END:VEVENT
END:VCALENDAR