BEGIN:VCALENDAR
VERSION:2.0
PRODID:-//RIES - Rete Italiana Economia Solidale - ECPv6.15.20//NONSGML v1.0//EN
CALSCALE:GREGORIAN
METHOD:PUBLISH
X-ORIGINAL-URL:https://rete-ries.it
X-WR-CALDESC:Eventi per RIES - Rete Italiana Economia Solidale
REFRESH-INTERVAL;VALUE=DURATION:PT1H
X-Robots-Tag:noindex
X-PUBLISHED-TTL:PT1H
BEGIN:VTIMEZONE
TZID:Europe/Rome
BEGIN:DAYLIGHT
TZOFFSETFROM:+0100
TZOFFSETTO:+0200
TZNAME:CEST
DTSTART:20230326T010000
END:DAYLIGHT
BEGIN:STANDARD
TZOFFSETFROM:+0200
TZOFFSETTO:+0100
TZNAME:CET
DTSTART:20231029T010000
END:STANDARD
BEGIN:DAYLIGHT
TZOFFSETFROM:+0100
TZOFFSETTO:+0200
TZNAME:CEST
DTSTART:20240331T010000
END:DAYLIGHT
BEGIN:STANDARD
TZOFFSETFROM:+0200
TZOFFSETTO:+0100
TZNAME:CET
DTSTART:20241027T010000
END:STANDARD
BEGIN:DAYLIGHT
TZOFFSETFROM:+0100
TZOFFSETTO:+0200
TZNAME:CEST
DTSTART:20250330T010000
END:DAYLIGHT
BEGIN:STANDARD
TZOFFSETFROM:+0200
TZOFFSETTO:+0100
TZNAME:CET
DTSTART:20251026T010000
END:STANDARD
END:VTIMEZONE
BEGIN:VEVENT
DTSTART;TZID=Europe/Rome:20241105T173000
DTEND;TZID=Europe/Rome:20241105T193000
DTSTAMP:20260420T151917
CREATED:20241102T074803Z
LAST-MODIFIED:20241102T074803Z
UID:10000290-1730827800-1730835000@rete-ries.it
SUMMARY:Economie trasformative - Incontro presso Sapienza Università
DESCRIPTION:Un’economia trasformativa di prossimità nella filiera agroalimentare: il ruolo di sostegno dell’Università\nQuale ruolo può svolgere il mondo accademico e della ricerca nel sostenere modelli di economia locale che valorizzano il protagonismo delle realtà sociali? \nL’incontro di propone di avviare un confronto tra l’esperienza latinoamericana e quella italiana riguardo alle visioni e ai progetti che possono essere supportati dal settore della ricerca. \nIntervengono :\nRodolfo Pastore – Decano Facoltà di Economia\nUniversità di Quilmes – Buenos Aires\nFrancesca Forno – Università di Trento\nMarco Binotto – Università La Sapienza \nIntroduce e Modera\nRiccardo Troisi -Università Tor Vergata- NexT -Ress Roma \nMartedì 5 novembre presso il Dipartimento di Comunicazione e Ricerca Sociale – Sapienza Università di Roma (Aula Alfa) \nIl seminario si svolge nell’ambito del corso Comunicazione e consumo responsabile (prof. Marco Binotto).\nPromosso in collaborazione con Reorient -Fairwatch – Ress Roma – Next Nuova economia \nEvento Fb https://fb.me/e/27yrv4IJ0
URL:https://rete-ries.it/evento/economie-trasformative-incontro-presso-sapienza-universita/
LOCATION:Sapienza Università – Roma\, via Salaria\, 113\, Roma\, Italy
CATEGORIES:Events
ATTACH;FMTTYPE=image/jpeg:https://rete-ries.it/wp-content/uploads/2024/11/5-nov-2024.jpg
ORGANIZER;CN="Reorient":MAILTO:reorient.it
END:VEVENT
END:VCALENDAR